BEGIN:VCALENDAR
VERSION:2.0
PRODID:-//ChamberMaster//Event Calendar 2.0//EN
METHOD:PUBLISH
X-PUBLISHED-TTL:P3D
REFRESH-INTERVAL:P3D
CALSCALE:GREGORIAN
BEGIN:VEVENT
DTSTART:20171209T003000Z
DTEND:20171209T020000Z
X-MICROSOFT-CDO-ALLDAYEVENT:FALSE
SUMMARY:Center for Fine and Performing Arts: Sondheim on Sondheim (theater opening night)
DESCRIPTION:Songs from the songbook of the inimitable Stephen Sondheim make for a concert performance of some of the great songs of the past 50 years of Broadway!\n\n\n\nSeminole State College's Center for Fine and Performing Arts Theatre presents six major productions per year.\n\n\n\n*Tickets on sale: November 20.
X-ALT-DESC;FMTTYPE=text/html:Songs from the songbook of the inimitable Stephen Sondheim make for a concert performance of some of the great songs of the past 50 years of Broadway!<br />\n<br />\nSeminole State College&rsquo\;s Center for Fine and Performing Arts Theatre presents six major productions per year.<br />\n<br />\n*Tickets on sale: November 20.
LOCATION:Harriett's Theatre (building G) Seminole State College of Florida Sanford/Lake Mary Campus 100 Weldon Blvd. Sanford\, FL 32773
UID:e.2138.8237
SEQUENCE:3
DTSTAMP:20260424T094352Z
URL:https://business.seminolebusiness.org/events/details/center-for-fine-and-performing-arts-theater-opening-night-sondheim-on-sondheim-8237
END:VEVENT

END:VCALENDAR
