BEGIN:VCALENDAR
VERSION:2.0
PRODID:-//ChamberMaster//Event Calendar 2.0//EN
METHOD:PUBLISH
X-PUBLISHED-TTL:P3D
REFRESH-INTERVAL:P3D
CALSCALE:GREGORIAN
BEGIN:VEVENT
DTSTART:20171111T003000Z
DTEND:20171111T020000Z
X-MICROSOFT-CDO-ALLDAYEVENT:FALSE
SUMMARY:Center for Fine and Performing Arts: The House of Bernarda Alba (theater opening night)
DESCRIPTION:The House of Bernarda Alba is considered to be the masterwork of Spain's greatest poet and playwright\, Federico Garc a Lorca. The tension created when honor subjugates love is at the heart of Lorca's masterpiece. Bernarda Alba lives in a small Andalusian village with her five daughters and elderly mother. Upon returning from the funeral of her husband\, Bernarda announces that her daughters are to observe an eight-year period of mourning. The daughters are devastated. Repression and rebellion inevitably follow in the wake of Bernarda's decision. When the mounting tension erupts\, tragedy ensues. \n\n\n\nSeminole State College's Center for Fine and Performing Arts Theatre presents six major productions per year.\n\n\n\nTickets go on sale October 23.
X-ALT-DESC;FMTTYPE=text/html:The House of Bernarda Alba is considered to be the masterwork of Spain&rsquo\;s greatest poet and playwright\, Federico Garc&iacute\;a Lorca. The tension created when honor subjugates love is at the heart of Lorca&rsquo\;s masterpiece. Bernarda Alba lives in a small Andalusian village with her five daughters and elderly mother. Upon returning from the funeral of her husband\, Bernarda announces that her daughters are to observe an eight-year period of mourning. The daughters are devastated. Repression and rebellion inevitably follow in the wake of Bernarda&rsquo\;s decision. When the mounting tension erupts\, tragedy ensues.&nbsp\;<br />\n<br />\nSeminole State College&rsquo\;s Center for Fine and Performing Arts Theatre presents six major productions per year.<br />\n<br />\nTickets go on sale October 23.<br />\n<br />\n&nbsp\;
LOCATION:Harriett's Theatre (building G) Seminole State College of Florida Sanford/Lake Mary Campus 100 Weldon Blvd. Sanford\, FL 32773
UID:e.2138.8236
SEQUENCE:3
DTSTAMP:20260424T062330Z
URL:https://business.seminolebusiness.org/events/details/center-for-fine-and-performing-arts-theater-opening-night-the-house-of-bernarda-alba-8236
END:VEVENT

END:VCALENDAR
