BEGIN:VCALENDAR
VERSION:2.0
PRODID:-//ChamberMaster//Event Calendar 2.0//EN
METHOD:PUBLISH
X-PUBLISHED-TTL:P3D
REFRESH-INTERVAL:P3D
CALSCALE:GREGORIAN
BEGIN:VEVENT
DTSTART:20170929T233000Z
DTEND:20170930T010000Z
X-MICROSOFT-CDO-ALLDAYEVENT:FALSE
SUMMARY:Center for Fine and Performing Arts Theater opening night: Almost\, Maine
DESCRIPTION:Can love really thaw the human heart? On a cold\, clear\, moonless night the inhabitants of Almost\, Maine weave together a tapestry of love and loss in a series of often funny and occasionally poignant vignettes\, probing the human heart with a generous helping of charm and wit.\n\n\n\nJohn Cariani's "Almost\, Maine" is a series of nine amiably absurdist vignettes about love\, with a touch of good-natured magic realism.\n\n\n\nTickets go on sale September 11\, 2017.\n\n\n\nSeminole State College's Center for Fine and Performing Arts Theatre presents six major productions per year.
X-ALT-DESC;FMTTYPE=text/html:Can love really thaw the human heart? On a cold\, clear\, moonless night the inhabitants of Almost\, Maine weave together a tapestry of love and loss in a series of often funny and occasionally poignant vignettes\, probing the human heart with a generous helping of charm and wit.<br />\n<br />\nJohn Cariani&rsquo\;s &ldquo\;Almost\, Maine&rdquo\; is a series of nine amiably absurdist vignettes about love\, with a touch of good-natured magic realism.<br />\n<br />\nTickets go on sale September 11\, 2017.<br />\n<br />\nSeminole State College&rsquo\;s Center for Fine and Performing Arts Theatre presents six major productions per year.<br />\n<br />\n&nbsp\;
LOCATION:Harriett's Theatre (building G) Seminole State College of Florida Sanford/Lake Mary Campus 100 Weldon Blvd. Sanford\, FL 32773
UID:e.2138.8233
SEQUENCE:3
DTSTAMP:20260424T031242Z
URL:https://business.seminolebusiness.org/events/details/center-for-fine-and-performing-arts-theater-opening-season-almost-maine-8233
END:VEVENT

END:VCALENDAR
