BEGIN:VCALENDAR
VERSION:2.0
PRODID:-//ChamberMaster//Event Calendar 2.0//EN
METHOD:PUBLISH
X-PUBLISHED-TTL:P3D
REFRESH-INTERVAL:P3D
CALSCALE:GREGORIAN
BEGIN:VEVENT
DTSTART:20180403T233000Z
DTEND:20180404T010000Z
X-MICROSOFT-CDO-ALLDAYEVENT:FALSE
SUMMARY:Center for Fine and Performing Arts: Band Invitational Concert featuring Lake Mary High School
DESCRIPTION:Seminole State's Music Department presents an array of concerts and recitals throughout the year that highlight talented students and faculty as well as renowned regional and national artists.\n\n\n\nGeneral parking for concerts is available in Lot 9. Accessible parking is available in Lot 11\, north of the Center for Fine and Performing Arts (building G).
X-ALT-DESC;FMTTYPE=text/html:Seminole State&rsquo\;s Music Department presents an array of concerts and recitals throughout the year that highlight talented students and faculty as well as renowned regional and national artists.<br />\n<br />\nGeneral parking for concerts is available in Lot 9. Accessible parking is available in Lot 11\, north of the Center for Fine and Performing Arts (building G).
LOCATION:Concert Hall (building G) Seminole State College of Florida Sanford/Lake Mary Campus 100 Weldon Blvd. Sanford\, FL 32773
UID:e.2138.8253
SEQUENCE:3
DTSTAMP:20260424T120729Z
URL:https://business.seminolebusiness.org/events/details/center-for-fine-and-performing-concert-series-band-invitational-concert-featuring-lake-mary-high-school-8253
END:VEVENT

END:VCALENDAR
