BEGIN:VCALENDAR
VERSION:2.0
PRODID:-//ChamberMaster//Event Calendar 2.0//EN
METHOD:PUBLISH
X-PUBLISHED-TTL:P3D
REFRESH-INTERVAL:P3D
CALSCALE:GREGORIAN
BEGIN:VEVENT
DTSTART:20160507T200000Z
DTEND:20160508T010000Z
X-MICROSOFT-CDO-ALLDAYEVENT:FALSE
SUMMARY:Central Florida Women's League 2016 Derby Gala
DESCRIPTION:Central Florida Women's League hosting their annual Derby Gala which is an afternoon of cocktails\, heavy hors d'oeuvres\, and\, of course the race\, followed by the Winner's Party! The event will take place at The Alfond Inn\, 300 E. New England Avenue\, Winter Park\, FL 32789 on Saturday\, May 7\, 2016 from 4:00 PM to 9:00 PM. Tickets can be purchased at www.cfwl.org: $175 each\, and reserved table for eight is $1\,600. This event benefits the Central Florida Women League Foundation Inc. which is a 501(c)(3) charitable organization. For further information\, to inquire on sponsorship opportunities\, and donate to the silent auction please contact Tara Merritt by phone 407-388-5136 or email Tara.Merritt@snmc.com.
X-ALT-DESC;FMTTYPE=text/html:<span style="font-family:times new roman\,serif"><span style="font-size:12.0pt">Central Florida Women&rsquo\;s League hosting their annual Derby Gala which is an afternoon of cocktails\, heavy hors d&rsquo\;oeuvres\, and\, of course the race\, followed by the Winner&rsquo\;s Party! The event will take place at The Alfond Inn\, 300 E. New England Avenue\, Winter Park\, FL 32789 on Saturday\, May 7\, 2016 from 4:00 PM to 9:00 PM. Tickets can be purchased at </span></span><a href="http://www.cfwl.org"><span style="font-family:times new roman\,serif"><span style="font-size:12.0pt">www.cfwl.org</span></span></a><span style="font-family:times new roman\,serif"><span style="font-size:12.0pt">: $175 each\, and reserved table for eight is $1\,600. This event benefits the Central Florida Women League Foundation Inc. which is a 501(c)(3) charitable organization. For further information\, to inquire on sponsorship opportunities\, and donate to the silent auction please contact Tara Merritt by phone 407-388-5136 or email </span></span><a href="mailto:Tara.Merritt@snmc.com"><span style="font-family:times new roman\,serif"><span style="font-size:12.0pt">Tara.Merritt@snmc.com</span></span></a><span style="font-family:times new roman\,serif"><span style="font-size:12.0pt">.&nbsp\;</span></span>
LOCATION:The Alfond Inn\, 300 E. New England Avenue\, Winter Park\, FL 32789
UID:e.2138.4375
SEQUENCE:3
DTSTAMP:20260426T000933Z
URL:https://business.seminolebusiness.org/events/details/central-florida-women-s-league-2016-derby-gala-05-07-2016-4375
END:VEVENT

END:VCALENDAR
