BEGIN:VCALENDAR
VERSION:2.0
PRODID:-//ChamberMaster//Event Calendar 2.0//EN
METHOD:PUBLISH
X-PUBLISHED-TTL:P3D
REFRESH-INTERVAL:P3D
CALSCALE:GREGORIAN
BEGIN:VEVENT
DTSTART:20161012T220000Z
DTEND:20161013T010000Z
X-MICROSOFT-CDO-ALLDAYEVENT:FALSE
SUMMARY:Central Florida Women's League Foundation Bowling Funraiser
DESCRIPTION:Join the Central Florida Women's League for a night of bowling that benefits local charities and scholarship recipients via grants from the Central Florida Women's League Foundation. Space is limited! For more information and to register visit http://www.cfwl.org.
X-ALT-DESC;FMTTYPE=text/html:<span style="color:#0000FF">Join the Central Florida Women&#39\;s League for a night of bowling that benefits local charities and scholarship recipients via grants from the Central Florida Women&#39\;s League Foundation. Space is limited! For more information and to register visit&nbsp\;</span><span style="color:#0000FF">http://www.cfwl.org.</span>
LOCATION:Kings Orlando 8255 International Drive\, Suite 120 Orlando\, FL 32819
UID:e.2138.4829
SEQUENCE:3
DTSTAMP:20260425T164910Z
URL:https://business.seminolebusiness.org/events/details/central-florida-women-s-league-foundation-bowling-funraiser-10-12-2016-4829
END:VEVENT

END:VCALENDAR
