BEGIN:VCALENDAR
VERSION:2.0
PRODID:-//ChamberMaster//Event Calendar 2.0//EN
METHOD:PUBLISH
X-PUBLISHED-TTL:P3D
REFRESH-INTERVAL:P3D
CALSCALE:GREGORIAN
BEGIN:VEVENT
DTSTART:20181029T120000Z
DTEND:20181029T190000Z
X-MICROSOFT-CDO-ALLDAYEVENT:FALSE
SUMMARY:CHARITY GOLF TOURNAMENT BENEFITING CAMP BOGGY CREEK
DESCRIPTION:Please join us at our Keller Williams Charity Golf Event with Rolex 24 Driving Champions Ricky & Jordan Taylor. \n\n \n\nPlay "Beat the Pro" with PGA Professional Fulton Allem. \n\n \n\nThis event will be held October 29th at fellow Chamber Member Heathrow Country Club with 100% of the proceeds benefiting Camp Boggy Creek. \n\n\n\nPlease follow this link for information on sponsorship opportunities and to register to participate in the Golf Scramble.\n\nCLICK HERE\n\n \n\nAt the luncheon\, there will be a "silent auction" and raffle.  If you would like to donate prizes\, you'll be able to go up in the front to give it away for the raffle\, and have signage at the "silent auction" table that you were the one who donated.  (Please see me for details)\n\n \n\nCAMP BOGGY CREEK Please click here for more information on this incredible charity.\n\n \n\nIf you're not able to join\, please share the event with your friends/family/coworkers   all are welcome!
X-ALT-DESC;FMTTYPE=text/html:<span style="color: rgb(29\, 33\, 41)\;"><span style="font-family: arial\,sans-serif\;"><span style="font-size: 12pt\;">Please join us at our Keller Williams Charity Golf Event with Rolex 24 Driving Champions Ricky &amp\; Jordan Taylor. </span></span></span><br />\n&nbsp\;<br />\n<span style="color: rgb(29\, 33\, 41)\;"><span style="font-family: arial\,sans-serif\;"><span style="font-size: 12pt\;">Play &quot\;Beat the Pro&quot\; with PGA Professional Fulton Allem. </span></span></span><br />\n&nbsp\;<br />\n<span style="color: rgb(29\, 33\, 41)\;"><span style="font-family: arial\,sans-serif\;"><span style="font-size: 12pt\;">This event will be held October 29th at fellow Chamber Member Heathrow Country Club with </span></span></span><span style="font-family: arial\,sans-serif\;"><span style="font-size: 12pt\;">100% of the<span style="color: rgb(29\, 33\, 41)\;"> proceeds benefiting Camp Boggy Creek. </span></span></span><br />\n<br />\n<span style="color: rgb(29\, 33\, 41)\;"><span style="font-family: arial\,sans-serif\;"><span style="font-size: 12pt\;">Please follow this link for information on sponsorship opportunities and to register to participate in the Golf Scramble.</span></span></span><br />\n<span style="font-family: arial\,sans-serif\;"><span style="font-size: 12pt\;"><a href="https://www.eventbrite.com.au/e/camp-boggy-creek-charity-golf-tournament-tickets-48213350429" target="_blank">CLICK HERE</a></span></span><br />\n&nbsp\;<br />\n<span style="font-family: arial\,sans-serif\;"><span style="font-size: 12pt\;">At the luncheon\, there will be a &ldquo\;silent auction&rdquo\; and raffle.&nbsp\; If you would like to donate prizes\, you&rsquo\;ll be able to go up in the front to give it away for the raffle\, and have signage at the &ldquo\;silent auction&rdquo\; table that you were the one who donated.&nbsp\; (Please see me for details)</span></span><br />\n&nbsp\;<br />\n<span style="font-family: arial\,sans-serif\;"><span style="font-size: 12pt\;"><a href="http://www.boggycreek.org/" target="_blank">CAMP BOGGY CREEK</a>&nbsp\;Please click here for more information on this incredible charity.</span></span><br />\n&nbsp\;<br />\n<span style="font-family: arial\,sans-serif\;"><span style="font-size: 12pt\;">If you&rsquo\;re not able to join\, please share the event with your friends/family/coworkers &ndash\; all are welcome!</span></span>
LOCATION:HEATHROW COUNTRY CLUB 1200 Bridgewater Dr Heathrow\, FL 32746
UID:e.2138.14784
SEQUENCE:3
DTSTAMP:20260424T023512Z
URL:https://business.seminolebusiness.org/events/details/charity-golf-tournament-benefiting-camp-boggy-creek-14784
END:VEVENT

END:VCALENDAR
