BEGIN:VCALENDAR
VERSION:2.0
PRODID:-//ChamberMaster//Event Calendar 2.0//EN
METHOD:PUBLISH
X-PUBLISHED-TTL:P3D
REFRESH-INTERVAL:P3D
CALSCALE:GREGORIAN
BEGIN:VEVENT
DTSTART:20230305T180000Z
DTEND:20230305T210000Z
X-MICROSOFT-CDO-ALLDAYEVENT:FALSE
SUMMARY:Charity Scholarship FUNDraiser
DESCRIPTION:The Sam Slusak Scholarship Fund was established to honor the memory of Samantha Slusak who suffered a C3/4 spinal cord injury during a gymnastics practice in New Port Richey\, Florida that left her paralyzed from the neck down. Sam became one of our first clients and unfortunately passed away too early in life. In 2014 her family created the Samantha Slusak Scholarship Fund for paralyzed individuals who are financially burdened and unable to attend NextStep Orlando's Recovery Program. "The Samantha Slusak Scholarship has been created for individuals who have the motivation\, optimism and drive but struggle to afford the necessary rehabilitation. Samantha would want to continue to change lives for the better." NextStep Orlando is a 501(c)3 non-profit organization to encourage hope and improve the quality of life for those paralyzed from a spinal cord injury by regaining function through an aggressive Activity-Based Therapy (ABT) Recovery Program. With your help Samantha's legacy can continue her never ending drive to help others reach their recovery goals! For more information about this amazing recovery program please visit our website at www.nextsteporlando.org
X-ALT-DESC;FMTTYPE=text/html:The Sam Slusak Scholarship Fund was established to honor the memory of Samantha Slusak who suffered a C3/4 spinal cord injury during a gymnastics practice in New Port Richey\, Florida that left her paralyzed from the neck down. Sam became one of our first clients and unfortunately passed away too early in life. In 2014 her family created the Samantha Slusak Scholarship Fund for paralyzed individuals who are financially burdened and unable to attend NextStep Orlando&rsquo\;s Recovery Program. &ldquo\;The Samantha Slusak Scholarship has been created for individuals who have the motivation\, optimism and drive but struggle to afford the necessary rehabilitation. Samantha would want to continue to change lives for the better.&rdquo\; NextStep Orlando is a 501(c)3 non-profit organization to encourage hope and improve the quality of life for those paralyzed from a spinal cord injury by regaining function through an aggressive Activity-Based Therapy (ABT) Recovery Program. With your help Samantha&rsquo\;s legacy can continue her never ending drive to help others reach their recovery goals! For more information about this amazing recovery program please visit our website at www.nextsteporlando.org
LOCATION:Orange County Brewers / Tin & Taco 1117 International Pkwy Lake Mary\, FL
UID:e.2138.31855
SEQUENCE:3
DTSTAMP:20260425T110907Z
URL:https://business.seminolebusiness.org/events/details/charity-scholarship-fundraiser-31855
END:VEVENT

END:VCALENDAR
