BEGIN:VCALENDAR
VERSION:2.0
PRODID:-//ChamberMaster//Event Calendar 2.0//EN
METHOD:PUBLISH
X-PUBLISHED-TTL:P3D
REFRESH-INTERVAL:P3D
CALSCALE:GREGORIAN
BEGIN:VEVENT
DTSTART:20161227T160000Z
DTEND:20161227T190000Z
X-MICROSOFT-CDO-ALLDAYEVENT:FALSE
SUMMARY:Chaz Lytle Baseball Holiday Camp
DESCRIPTION:Chaz Lytle Baseball is excited to offer a Holiday Skills camp for Baseball and Softball players ages 6 - 12. \n\n\n\nIncludes:  Hitting fundamentals and ProMirror Video Analysis\, throwing and receiving fundamentals\, speed and agility\, and a pizza lunch!  Small coach to player ration and indoor air condtioned facility.  Space is limited and registration is required.  \n\nRegister online at: https://orlandobaseballlessons.sportngin.com/register/form/635131195?_ga=1.102794048.1965472382.1480684114  \n\n\n\nPlease email us at lessons@orlandobaseballlessons.com or call 407-951-6924 with questions.
X-ALT-DESC;FMTTYPE=text/html:Chaz Lytle Baseball is excited to offer a Holiday Skills camp for Baseball and Softball players ages 6 - 12.&nbsp\;<br />\n<br />\nIncludes: &nbsp\;Hitting fundamentals and ProMirror Video Analysis\, throwing and receiving fundamentals\, speed and agility\, and a pizza lunch! &nbsp\;Small coach to player ration and indoor air condtioned facility. &nbsp\;Space is limited and registration is required. &nbsp\;<br />\nRegister online at: https://orlandobaseballlessons.sportngin.com/register/form/635131195?_ga=1.102794048.1965472382.1480684114 &nbsp\;<br />\n<br />\nPlease email us at lessons@orlandobaseballlessons.com or call 407-951-6924 with questions. &nbsp\;
LOCATION:Chaz Lytle Baseball / Home Run Warehouse 735 Industry Road #117 Longwood\, FL 32750.
UID:e.2138.6407
SEQUENCE:3
DTSTAMP:20260425T132059Z
URL:https://business.seminolebusiness.org/events/details/chaz-lytle-baseball-holiday-camp-12-27-2016-6407
END:VEVENT

END:VCALENDAR
