BEGIN:VCALENDAR
VERSION:2.0
PRODID:-//ChamberMaster//Event Calendar 2.0//EN
METHOD:PUBLISH
X-PUBLISHED-TTL:P3D
REFRESH-INTERVAL:P3D
CALSCALE:GREGORIAN
BEGIN:VEVENT
DTSTART:20161004T220000Z
DTEND:20161005T003000Z
X-MICROSOFT-CDO-ALLDAYEVENT:FALSE
SUMMARY:Chaz Lytle Baseball - National Night Out
DESCRIPTION:Chaz Lytle Baseball is excited to provide instructions and entertainment for the children and families at the City of Longwood's 33rd Annual National Night Out crime / drug prevention event on Tuesday\, October 4\, 2016 from 6:00 pm - 8:30 pm.  We will have a unique interactive baseball blow-up game and Coaches on hand to meet and instruct.  Chaz Lytle\, MLB Pittsburgh Pirates Batting Title\, University of Georgia All-Time Stolen Base Champ and Manager of the Central Florida Bulldawgs will be there to share his expertise.  Join us as we cheer on the Police and Fire Fighters in their 9th annual Police vs Fire Fighters Charity Softball game.  This event includes many other displays and giveaways!
X-ALT-DESC;FMTTYPE=text/html:Chaz Lytle Baseball is excited to provide instructions and entertainment for the children and families at the City of Longwood&#39\;s 33rd Annual National Night Out crime / drug prevention event on Tuesday\, October 4\, 2016 from 6:00 pm - 8:30 pm. &nbsp\;We will have a unique interactive baseball blow-up game and Coaches on hand to meet and instruct. &nbsp\;Chaz Lytle\, MLB Pittsburgh Pirates&nbsp\;Batting Title\, University of Georgia All-Time Stolen Base Champ and Manager of the Central Florida Bulldawgs will be there to share his expertise. &nbsp\;Join us as we cheer on the Police and Fire Fighters in their 9th annual Police vs Fire Fighters Charity Softball game. &nbsp\;This event includes many other displays and giveaways! &nbsp\;
LOCATION:Candyland Park 599 Longdale Ave Longwood\, FL 32750
UID:e.2138.4894
SEQUENCE:3
DTSTAMP:20260425T164725Z
URL:https://business.seminolebusiness.org/events/details/chaz-lytle-baseball-national-night-out-4894
END:VEVENT

END:VCALENDAR
