BEGIN:VCALENDAR
VERSION:2.0
PRODID:-//ChamberMaster//Event Calendar 2.0//EN
METHOD:PUBLISH
X-PUBLISHED-TTL:P3D
REFRESH-INTERVAL:P3D
CALSCALE:GREGORIAN
BEGIN:VEVENT
DTSTART:20180716T180000Z
DTEND:20180716T190000Z
X-MICROSOFT-CDO-ALLDAYEVENT:FALSE
SUMMARY:CHEF SHOWDOWN 2018 - Atria Park of Lake Forest vs The Corner Cafe
DESCRIPTION:Join us for a fierce but friendly competition with only one rule - each dish must contain summers most highly disputed ingredient\, the tomato. Is it toh-may-toh or tuh-mah-to?\n\n \n\nAtria Park of Lake Forest\n\nSimona Krasnansky & James Richardson\n\nvs\n\nThe Corner Cafe\n\nChef Michael\n\nTHE GREAT TOMATO DISUPTES WILL BE DECIDED
X-ALT-DESC;FMTTYPE=text/html:<div>Join us for&nbsp\;a fierce but friendly competition with only one rule - each dish must contain summers most highly disputed ingredient\, the tomato. Is it toh-may-toh or tuh-mah-to?<br />\n&nbsp\;</div>\n\n<div style="text-align: center\;">Atria Park of Lake Forest<br />\nSimona Krasnansky &amp\; James Richardson<br />\nvs<br />\nThe Corner Cafe<br />\nChef Michael</div>\n\n<div style="text-align: center\;">THE&nbsp\;GREAT TOMATO DISUPTES WILL BE DECIDED</div>\n<br />\n&nbsp\;
LOCATION:Atria Park of Lake Forest Heritage Room 5433 W. State Rd. 46 Sanford\, FL 32771
UID:e.2138.9471
SEQUENCE:3
DTSTAMP:20260424T070157Z
URL:https://business.seminolebusiness.org/events/details/chef-showdown-2018-atria-park-of-lake-forest-vs-the-corner-cafe-9471
END:VEVENT

END:VCALENDAR
