BEGIN:VCALENDAR
VERSION:2.0
PRODID:-//ChamberMaster//Event Calendar 2.0//EN
METHOD:PUBLISH
X-PUBLISHED-TTL:P3D
REFRESH-INTERVAL:P3D
CALSCALE:GREGORIAN
BEGIN:VEVENT
DTSTART:20260314T230000Z
DTEND:20260315T010000Z
X-MICROSOFT-CDO-ALLDAYEVENT:FALSE
SUMMARY:CHICK-FIL-A Maitland X Armor Of God Worship Night
DESCRIPTION:WORSHIP NIGHT AT CHICK-FIL-A MAITLAND ?????\n\n\n\nWe are so excited to announce that we are partnering with Armor of God and Seekers Worship for a FREE outdoor worship night! Even our CFA cow is joining in the praise ????????\n\n\n\nMark your calendars and come join us for a night filled with: \n\n?? Fellowship \n\n??? Vendors \n\n?? Praise & Worship\n\n?? Giveaways\n\n\n\nMarch 14th 7-9pm \n\nChick-fil-A Maitland\n\n8673 Summit Centre Way\, Orlando\, FL 32810 \n\n\n\nThis is a FREE event open to everyone - bring your family\, bring your friends and come ready to worship! We hope to see you there ????
X-ALT-DESC;FMTTYPE=text/html:<span style="color:rgb(12\, 16\, 20)\; font-family:-apple-system\,blinkmacsystemfont\,segoe ui\,roboto\,helvetica\,arial\,sans-serif\; font-size:14px">WORSHIP NIGHT AT CHICK-FIL-A MAITLAND ?????</span><br />\n<br />\n<span style="color:rgb(12\, 16\, 20)\; font-family:-apple-system\,blinkmacsystemfont\,segoe ui\,roboto\,helvetica\,arial\,sans-serif\; font-size:14px">We are so excited to announce that we are partnering with Armor of God and Seekers Worship for a FREE outdoor worship night! Even our CFA cow is joining in the praise ????????</span><br />\n<br />\n<span style="color:rgb(12\, 16\, 20)\; font-family:-apple-system\,blinkmacsystemfont\,segoe ui\,roboto\,helvetica\,arial\,sans-serif\; font-size:14px">Mark your calendars and come join us for a night filled with:&nbsp\;</span><br />\n<span style="color:rgb(12\, 16\, 20)\; font-family:-apple-system\,blinkmacsystemfont\,segoe ui\,roboto\,helvetica\,arial\,sans-serif\; font-size:14px">?? Fellowship&nbsp\;</span><br />\n<span style="color:rgb(12\, 16\, 20)\; font-family:-apple-system\,blinkmacsystemfont\,segoe ui\,roboto\,helvetica\,arial\,sans-serif\; font-size:14px">??? Vendors&nbsp\;</span><br />\n<span style="color:rgb(12\, 16\, 20)\; font-family:-apple-system\,blinkmacsystemfont\,segoe ui\,roboto\,helvetica\,arial\,sans-serif\; font-size:14px">?? Praise &amp\; Worship</span><br />\n<span style="color:rgb(12\, 16\, 20)\; font-family:-apple-system\,blinkmacsystemfont\,segoe ui\,roboto\,helvetica\,arial\,sans-serif\; font-size:14px">?? Giveaways</span><br />\n<br />\n<span style="color:rgb(12\, 16\, 20)\; font-family:-apple-system\,blinkmacsystemfont\,segoe ui\,roboto\,helvetica\,arial\,sans-serif\; font-size:14px">March 14th 7-9pm&nbsp\;</span><br />\n<span style="color:rgb(12\, 16\, 20)\; font-family:-apple-system\,blinkmacsystemfont\,segoe ui\,roboto\,helvetica\,arial\,sans-serif\; font-size:14px">Chick-fil-A Maitland</span><br />\n<span style="color:rgb(12\, 16\, 20)\; font-family:-apple-system\,blinkmacsystemfont\,segoe ui\,roboto\,helvetica\,arial\,sans-serif\; font-size:14px">8673 Summit Centre Way\, Orlando\, FL 32810&nbsp\;</span><br />\n<br />\n<span style="color:rgb(12\, 16\, 20)\; font-family:-apple-system\,blinkmacsystemfont\,segoe ui\,roboto\,helvetica\,arial\,sans-serif\; font-size:14px">This is a FREE event open to everyone - bring your family\, bring your friends and come ready to worship! We hope to see you there ????</span>
LOCATION:8673 Summit Centre Way\, Orlando\, FL 32810
UID:e.2138.41894
SEQUENCE:3
DTSTAMP:20260422T230627Z
URL:https://business.seminolebusiness.org/events/details/chick-fil-a-maitland-x-armor-of-god-worship-night-41894
END:VEVENT

END:VCALENDAR
