BEGIN:VCALENDAR
VERSION:2.0
PRODID:-//ChamberMaster//Event Calendar 2.0//EN
METHOD:PUBLISH
X-PUBLISHED-TTL:P3D
REFRESH-INTERVAL:P3D
CALSCALE:GREGORIAN
BEGIN:VEVENT
DTSTART:20160922T230000Z
DTEND:20160923T010000Z
X-MICROSOFT-CDO-ALLDAYEVENT:FALSE
SUMMARY:Chinese Tea Party
DESCRIPTION:A tea party with a variety of Asian teas and snacks to sample! This casual meet and greet event will introduce Chinese medicine - and me\, your newest local Chinese medicine doctor - to the community.  We'll be talking tea and demonstrating Chinese ear seed acupressure on any brave volunteers. Come for the tea\, stay for the fun!
X-ALT-DESC;FMTTYPE=text/html:A tea party with a variety of Asian teas and snacks to sample! This casual meet and greet event will introduce Chinese medicine - and me\, your newest local Chinese medicine doctor - to the community. &nbsp\;We&rsquo\;ll be talking tea and demonstrating Chinese ear seed acupressure on any brave volunteers. Come for the tea\, stay for the fun!&nbsp\;
LOCATION:Maitland Wellness Center 237 Lookout Place Maitland\, FL 32751 Classroom on the 2nd floor
UID:e.2138.4898
SEQUENCE:3
DTSTAMP:20260425T175812Z
URL:https://business.seminolebusiness.org/events/details/chinese-tea-party-4898
END:VEVENT

END:VCALENDAR
