BEGIN:VCALENDAR
VERSION:2.0
PRODID:-//ChamberMaster//Event Calendar 2.0//EN
METHOD:PUBLISH
X-PUBLISHED-TTL:P3D
REFRESH-INTERVAL:P3D
CALSCALE:GREGORIAN
BEGIN:VEVENT
DTSTART:20180724T213000Z
DTEND:20180724T233000Z
X-MICROSOFT-CDO-ALLDAYEVENT:FALSE
SUMMARY:Christmas In July At Heathrow Country Club
DESCRIPTION:Come see all the renovations at our Clubhouse and Grand Ballroom!\n\n\n\n1. Complimentary holiday appetizers!\n\n2. Drink specials featuring $5 martinis\, wine by the glass\, and more!\n\n3. Special menus and dinner packages for your holiday party planning!\n\n4. Early booking discounts for NEW events taking place September 2018 - January 2019!\n\n5. Special pricing on recommended vendors!
X-ALT-DESC;FMTTYPE=text/html:<span style="font-size: 16px\;"><strong>Come see all the renovations at our Clubhouse and Grand Ballroom!</strong></span><br />\n<br />\n1. Complimentary holiday appetizers!<br />\n2. Drink specials featuring $5 martinis\, wine by the glass\, and more!<br />\n3. Special menus and dinner packages for your holiday party planning!<br />\n4. Early booking discounts for NEW events taking place September 2018 - January 2019!<br />\n5. Special pricing on recommended vendors!
LOCATION:Heathrow Country Club 1200 Bridgewater Dr Heathrow\, FL 32746
UID:e.2138.9565
SEQUENCE:3
DTSTAMP:20260424T070140Z
URL:https://business.seminolebusiness.org/events/details/christmas-in-july-at-heathrow-country-club-9565
END:VEVENT

END:VCALENDAR
