BEGIN:VCALENDAR
VERSION:2.0
PRODID:-//ChamberMaster//Event Calendar 2.0//EN
METHOD:PUBLISH
X-PUBLISHED-TTL:P3D
REFRESH-INTERVAL:P3D
CALSCALE:GREGORIAN
BEGIN:VEVENT
DTSTART:20250503T130000Z
DTEND:20250503T170000Z
X-MICROSOFT-CDO-ALLDAYEVENT:FALSE
SUMMARY:Chuck Carmen Orlando Walk for Epilepsy & Purple Picnic
DESCRIPTION:Our annual Chuck Carmen Orlando Walk for Epilepsy & Purple Picnic is a community-driven event that raises awareness about epilepsy and promotes education. It brings together individuals living with epilepsy\, caregivers\, medical professionals\, and community resource providers to network\, share information\, and support one another.\n\nThe event features family-friendly entertainment\, including games\, face painting\, social activities\, and delicious food all in a fun\, inclusive\, and supportive atmosphere.\n\nSponsorship & Vendor Opportunities\n\nWe offer a variety of sponsorship levels\, each with unique benefits. Our Presenting Sponsors receive premier recognition and promotional opportunities.
X-ALT-DESC;FMTTYPE=text/html:<div>\n<p>Our annual <strong>Chuck Carmen Orlando Walk for Epilepsy &amp\; Purple Picnic</strong> is a community-driven event that raises awareness about epilepsy and promotes education. It brings together individuals living with epilepsy\, caregivers\, medical professionals\, and community resource providers to network\, share information\, and support one another.</p>\n\n<p>The event features family-friendly entertainment\, including games\, face painting\, social activities\, and delicious food&mdash\;all in a fun\, inclusive\, and supportive atmosphere.</p>\n\n<h3>Sponsorship &amp\; Vendor Opportunities</h3>\n\n<p>We offer a variety of sponsorship levels\, each with unique benefits. Our <strong>Presenting Sponsors</strong> receive premier recognition and promotional opportunities.</p>\n\n<p>&nbsp\;</p>\n</div>\n
LOCATION:Cypress Grove Park 290 Holden Ave\, Orlando\, FL 32839
UID:e.2138.36954
SEQUENCE:3
DTSTAMP:20260423T140051Z
URL:https://business.seminolebusiness.org/events/details/chuck-carmen-orlando-walk-for-epilepsy-purple-picnic-36954
END:VEVENT

END:VCALENDAR
