BEGIN:VCALENDAR
VERSION:2.0
PRODID:-//ChamberMaster//Event Calendar 2.0//EN
METHOD:PUBLISH
X-PUBLISHED-TTL:P3D
REFRESH-INTERVAL:P3D
CALSCALE:GREGORIAN
BEGIN:VEVENT
DTSTART:20171206T230000Z
DTEND:20171207T003000Z
X-MICROSOFT-CDO-ALLDAYEVENT:FALSE
SUMMARY:CIO Exchange
DESCRIPTION:Invitation Only! If interested\, please contact Rob Gross - rob@CompleteCommOnline.com\n\n\n\nPlease join us for a casual get together where you will have the opportunity to meet with other high-level CIO's. Our goal is to foster communication and the exchange of ideas. This invitation only event will give you the opportunity to share and learn from others about cloud strategy\, best practices\, common pitfalls to avoid and much more!\n\n\n\nHosted by:\n\n\n\nComplete Communications | www.CompleteCommOnline.com \n\n\n\nSponsored by:\n\n\n\nMomentum Telecom | www.momentumtelecom.com\n\nRapidScale | www.rapidscale.net\n\nNICE inContact | www.incontact.com
X-ALT-DESC;FMTTYPE=text/html:<strong>Invitation Only! If interested\, please contact Rob Gross - rob@CompleteCommOnline.com</strong><br />\n<br />\nPlease join us for a casual get together where you will have the opportunity to meet with other high-level CIO&#39\;s. Our goal is to foster communication and the exchange of ideas. This invitation only event will give you the opportunity to share and learn from others about cloud strategy\, best practices\, common pitfalls to avoid and much more!<br />\n<br />\n<strong>Hosted by:</strong><br />\n<br />\nComplete Communications | www.CompleteCommOnline.com&nbsp\;<br />\n<br />\n<strong>Sponsored by:</strong><br />\n<br />\nMomentum Telecom | www.momentumtelecom.com<br />\nRapidScale | www.rapidscale.net<br />\nNICE inContact | www.incontact.com<br />\n&nbsp\;
LOCATION:Bahama Breeze 499 E Altamonte Dr Altamonte Springs\, FL 32701
UID:e.2138.8318
SEQUENCE:3
DTSTAMP:20260424T093740Z
URL:https://business.seminolebusiness.org/events/details/cio-exchange-8318
END:VEVENT

END:VCALENDAR
