BEGIN:VCALENDAR
VERSION:2.0
PRODID:-//ChamberMaster//Event Calendar 2.0//EN
METHOD:PUBLISH
X-PUBLISHED-TTL:P3D
REFRESH-INTERVAL:P3D
CALSCALE:GREGORIAN
BEGIN:VEVENT
DTSTART:20180519T140000Z
DTEND:20180519T180000Z
X-MICROSOFT-CDO-ALLDAYEVENT:FALSE
SUMMARY:City College Open House
DESCRIPTION:Come help us celebrate 30 years of helping our community!
X-ALT-DESC;FMTTYPE=text/html:Come help us celebrate 30 years of helping our community!
LOCATION:177 Montgomery Blvd. Altamonte Springs FL 32714
UID:e.2138.9406
SEQUENCE:3
DTSTAMP:20260424T101921Z
URL:https://business.seminolebusiness.org/events/details/city-college-open-house-9406
END:VEVENT

END:VCALENDAR
