BEGIN:VCALENDAR
VERSION:2.0
PRODID:-//ChamberMaster//Event Calendar 2.0//EN
METHOD:PUBLISH
X-PUBLISHED-TTL:P3D
REFRESH-INTERVAL:P3D
CALSCALE:GREGORIAN
BEGIN:VEVENT
DTSTART:20170505T230000Z
DTEND:20170506T013000Z
X-MICROSOFT-CDO-ALLDAYEVENT:FALSE
SUMMARY:Coffee & Cosmos
DESCRIPTION:Join Michael McConville\, coordinator of the planetarium\, for an evening of celestial observing and coffee at the Starbucks on International Parkway in Lake Mary.\n\n\n\nAll visitors will receive a free tall coffee\, courtesy of our hosts at Starbucks. Please note that celestial observing is weather permitting.\n\n\n\nWe will make a determination at 6 p.m. on the evening of the event if weather conditions do not seem to be cooperative.
X-ALT-DESC;FMTTYPE=text/html:<span style="color:rgb(0\, 0\, 0)\; font-family:arial\,sans-serif\; font-size:12px">Join Michael McConville\, coordinator of the planetarium\, for an evening of celestial observing and coffee at the Starbucks on International Parkway in Lake Mary.<br />\n<br />\nAll visitors will receive a free tall coffee\, courtesy of our hosts at Starbucks. Please note that celestial observing is weather permitting.<br />\n<br />\nWe will make a determination at 6 p.m. on the evening of the event if weather conditions do not seem to be cooperative.</span>
LOCATION:Starbucks 910 International Pkwy Lake Mary\, FL 32746
UID:e.2138.6737
SEQUENCE:3
DTSTAMP:20260423T210421Z
URL:https://business.seminolebusiness.org/events/details/coffee-cosmos-6737
END:VEVENT

END:VCALENDAR
