BEGIN:VCALENDAR
VERSION:2.0
PRODID:-//ChamberMaster//Event Calendar 2.0//EN
METHOD:PUBLISH
X-PUBLISHED-TTL:P3D
REFRESH-INTERVAL:P3D
CALSCALE:GREGORIAN
BEGIN:VEVENT
DTSTART:20251020T220000Z
DTEND:20251020T230000Z
X-MICROSOFT-CDO-ALLDAYEVENT:FALSE
SUMMARY:Community Connections - Focus\, Follow Through and Frustration\; Helping Kids Build the Skills They Need to Thrive
DESCRIPTION:Join us for our COMMUNITY CONNECTIONS series perfect for parents\, educators\, and professionals working with children.  \n\n\n\nOur guest speaker\, Farah Downs of Maitland Mental Health\, will be sharing Focus\, Follow Through\, and Frustration\; Helping Kids Build the Skills They Need to Thrive.  \n\n\n\nAt this event\, you will have a chance to:\n\n	learn from professionals\n	understand executive functioning components\n	discover executive functioning strategies\n	get questions answered\n\nThis is an adult-preferred event and will take place on Monday\, October 20th at 6pm in Maitland at the Engage the Brain offices.\n\n\n\nPlease make sure to RSVP at the link provided since seats are limited!
X-ALT-DESC;FMTTYPE=text/html:Join us for our COMMUNITY CONNECTIONS series perfect for parents\, educators\, and professionals working with children.&nbsp\;&nbsp\;<br />\n<br />\nOur guest speaker\, Farah Downs of Maitland Mental Health\, will be sharing Focus\, Follow Through\, and Frustration\; Helping Kids Build the Skills They Need to Thrive.&nbsp\;&nbsp\;<br />\n<br />\nAt this event\, you will have a chance to:\n<ul>\n	<li>learn from professionals</li>\n	<li>understand executive functioning components</li>\n	<li>discover executive functioning strategies</li>\n	<li>get questions answered</li>\n</ul>\nThis is an adult-preferred event and will take place on Monday\, October 20th at 6pm in Maitland at the Engage the Brain offices.<br />\n<br />\nPlease make sure to RSVP at the link provided since seats are limited!
LOCATION:620 N. Wymore Road\, Suite 250 Maitland\, FL 32751
UID:e.2138.38760
SEQUENCE:3
DTSTAMP:20260423T054123Z
URL:https://business.seminolebusiness.org/events/details/community-connections-focus-follow-through-and-frustration-helping-kids-build-the-skills-they-need-to-thrive-38760
END:VEVENT

END:VCALENDAR
