BEGIN:VCALENDAR
VERSION:2.0
PRODID:-//ChamberMaster//Event Calendar 2.0//EN
METHOD:PUBLISH
X-PUBLISHED-TTL:P3D
REFRESH-INTERVAL:P3D
CALSCALE:GREGORIAN
BEGIN:VEVENT
DTSTART;VALUE=DATE:20180424
DTEND;VALUE=DATE:20180425
TRANSP:TRANSPARENT
X-MICROSOFT-CDO-ALLDAYEVENT:TRUE
SUMMARY:Community Empowerment Breakfast
DESCRIPTION:Join us to learn how sexual abuse is impacting children and families in Central Florida and how Child Rescue Network is literally changing te way parents and communities are protecting kids!
X-ALT-DESC;FMTTYPE=text/html:Join us to learn how sexual abuse is impacting children and families in Central Florida and how Child Rescue Network is literally changing te way parents and communities are protecting kids! &nbsp\;&nbsp\;&nbsp\;&nbsp\;&nbsp\;&nbsp\;&nbsp\;&nbsp\;
LOCATION:Winter Park Civic Center 1050 W. Morse Blvd.\, Winter Park 32789
UID:e.2138.8821
SEQUENCE:3
DTSTAMP:20260424T115947Z
URL:https://business.seminolebusiness.org/events/details/community-empowerment-breakfast-8821
END:VEVENT

END:VCALENDAR
