BEGIN:VCALENDAR
VERSION:2.0
PRODID:-//ChamberMaster//Event Calendar 2.0//EN
METHOD:PUBLISH
X-PUBLISHED-TTL:P3D
REFRESH-INTERVAL:P3D
CALSCALE:GREGORIAN
BEGIN:VEVENT
DTSTART:20180308T160000Z
DTEND:20180308T190000Z
X-MICROSOFT-CDO-ALLDAYEVENT:FALSE
SUMMARY:Comprehensive Guide to Uniform Residential Appraisal Report
DESCRIPTION:This Lunch N Learn is A Must See!  Megan Johnson Judd\, Certified Residential Real Estate Appraiser\, ORRA Instructor\, Court Appointed Expert\, and Candidate for Desigation for AI-RRS Desingation is presenting her sought after program.\n\nFROM ADDRESS TO ZONING: A COMPREHEISVE GUIDE TO THE UNIFORM RESIDENTIAL APPARAISAL REPORT March 8\, 2018. \n\n \n\nShe is going in depth into the Appraisal Report so you can be an expert helping your clients!  She will discuss the following\n\n1. UNDERSTANDING THE APPRAISAL REPORT\n\n2. WHY IT'S IMPORTANT IN REAL ESTATE\n\n3. HOW TO IDENTIFY PROBLEMS WITH THE REPORT\n\n4. EFFECTIVELY COMMUNICATE WITH AN APPRAISER AND LENDER\n\nPlus a Q &A like no other!\n\n\n\nRealtors and Homeowners are  invited to this LNL - great info for both!
X-ALT-DESC;FMTTYPE=text/html:<p>This Lunch N Learn is A Must See!&nbsp\; Megan Johnson Judd\, Certified Residential Real Estate Appraiser\, ORRA Instructor\, Court Appointed Expert\, and Candidate for Desigation for AI-RRS Desingation is presenting her sought after program.<br />\nFROM ADDRESS TO ZONING: A COMPREHEISVE GUIDE TO THE UNIFORM RESIDENTIAL APPARAISAL REPORT March 8\, 2018.&nbsp\;</p>\n\n<p>&nbsp\;</p>\n\n<p>She is going in depth into the Appraisal Report so you can be an expert helping your clients!&nbsp\; She will discuss the following</p>\n\n<p>1. UNDERSTANDING THE APPRAISAL REPORT</p>\n\n<p>2. WHY IT&#39\;S IMPORTANT IN REAL ESTATE</p>\n\n<p>3. HOW TO IDENTIFY PROBLEMS WITH THE REPORT</p>\n\n<p>4. EFFECTIVELY COMMUNICATE WITH AN APPRAISER AND LENDER</p>\n\n<p>Plus a Q &amp\;A like no other!<br />\n<br />\nRealtors and Homeowners are&nbsp\; invited to this LNL - great info for both!</p>\n
LOCATION:Hilton Lake Mary Garden Inn 705 Currency Circle Lake Mary Florida
UID:e.2138.8799
SEQUENCE:3
DTSTAMP:20260424T130344Z
URL:https://business.seminolebusiness.org/events/details/comprehensive-guide-to-uniform-residential-appraisal-report-8799
END:VEVENT

END:VCALENDAR
