BEGIN:VCALENDAR
VERSION:2.0
PRODID:-//ChamberMaster//Event Calendar 2.0//EN
METHOD:PUBLISH
X-PUBLISHED-TTL:P3D
REFRESH-INTERVAL:P3D
CALSCALE:GREGORIAN
BEGIN:VEVENT
DTSTART:20250508T150000Z
DTEND:20250508T163000Z
X-MICROSOFT-CDO-ALLDAYEVENT:FALSE
SUMMARY:Comprenda sus Estados Financieros
DESCRIPTION:Obtenga informaci n clara\, herramientas efectivas y t cnicas b sicas para comprender y analizar los estados financieros de su negocio. En este seminario gratuito en espa ol conocer  los siguientes reportes a detalle:\n\n\n\n  Estado de resultados \n\n  Estado de situaci n financiera o balance general \n\n  Estado de flujo de efectivo
X-ALT-DESC;FMTTYPE=text/html:Obtenga informaci&oacute\;n clara\, herramientas efectivas y t&eacute\;cnicas b&aacute\;sicas para comprender y analizar los estados financieros de su negocio. En este seminario gratuito en espa&ntilde\;ol conocer&aacute\; los siguientes reportes a detalle:<br />\n<br />\n&bull\; Estado de resultados&nbsp\;<br />\n&bull\; Estado de situaci&oacute\;n financiera o balance general&nbsp\;<br />\n&bull\; Estado de flujo de efectivo
LOCATION:Seminole State College - Heathrow Campus 1055 AAA Dr Heathrow\, Fl 32746
UID:e.2138.36946
SEQUENCE:3
DTSTAMP:20260423T140117Z
URL:https://business.seminolebusiness.org/events/details/comprenda-sus-estados-financieros-36946
END:VEVENT

END:VCALENDAR
