BEGIN:VCALENDAR
VERSION:2.0
PRODID:-//ChamberMaster//Event Calendar 2.0//EN
METHOD:PUBLISH
X-PUBLISHED-TTL:P3D
REFRESH-INTERVAL:P3D
CALSCALE:GREGORIAN
BEGIN:VEVENT
DTSTART:20170114T130000Z
DTEND:20170114T190000Z
X-MICROSOFT-CDO-ALLDAYEVENT:FALSE
SUMMARY:Cooperstown Fundraiser Baseball Camp and BBQ
DESCRIPTION:12u Team\, High School\, College and Coaching Staff will work with the local youth to raise funds for their Cooperstown Journey. Information flyers are available at the facility and on this website homepage to share with friends and family! \n\n\n\nAges 4-7 from 8:00 am - 10:30 am\n\nAges 8-10 from 10:30 am - 12:00 pm\n\nCost: $30\n\n\n\nSonny's BBQ dinner available from 12-1 pm for $10 per plate.
X-ALT-DESC;FMTTYPE=text/html:<span style="background-color:rgb(255\, 255\, 255)\; color:rgb(75\, 79\, 86)\; font-family:san francisco\,-apple-system\,blinkmacsystemfont\,.sfnstext-regular\,sans-serif\; font-size:14px">12u Team\, High School\, College and Coaching Staff will work with the local youth to raise funds for their Cooperstown Journey. Information flyers are available at the facility and on this website homepage to share with friends and family!&nbsp\;</span><br />\n<br />\n<span style="background-color:rgb(255\, 255\, 255)\; color:rgb(75\, 79\, 86)\; font-family:san francisco\,-apple-system\,blinkmacsystemfont\,.sfnstext-regular\,sans-serif\; font-size:14px">Ages 4-7 from 8:00 am - 10:30 am</span><br />\n<span style="background-color:rgb(255\, 255\, 255)\; color:rgb(75\, 79\, 86)\; font-family:san francisco\,-apple-system\,blinkmacsystemfont\,.sfnstext-regular\,sans-serif\; font-size:14px">Ages 8-10 from 10:30 am - 12:00 pm</span><br />\n<span style="background-color:rgb(255\, 255\, 255)\; color:rgb(75\, 79\, 86)\; font-family:san francisco\,-apple-system\,blinkmacsystemfont\,.sfnstext-regular\,sans-serif\; font-size:14px">Cost: $30</span><br />\n<br />\n<span style="background-color:rgb(255\, 255\, 255)\; color:rgb(75\, 79\, 86)\; font-family:san francisco\,-apple-system\,blinkmacsystemfont\,.sfnstext-regular\,sans-serif\; font-size:14px">Sonny&#39\;s BBQ dinner available from 12-1 pm for $10 per plate.</span>
LOCATION:Home Run Warehouse located at 735 Industry Road #117\, Longwood\, FL 32750.
UID:e.2138.6162
SEQUENCE:3
DTSTAMP:20260423T144333Z
URL:https://business.seminolebusiness.org/events/details/cooperstown-fundraiser-baseball-camp-and-bbq-6162
END:VEVENT

END:VCALENDAR
