BEGIN:VCALENDAR
VERSION:2.0
PRODID:-//ChamberMaster//Event Calendar 2.0//EN
METHOD:PUBLISH
X-PUBLISHED-TTL:P3D
REFRESH-INTERVAL:P3D
CALSCALE:GREGORIAN
BEGIN:VEVENT
DTSTART:20181020T190000Z
DTEND:20181020T200000Z
X-MICROSOFT-CDO-ALLDAYEVENT:FALSE
SUMMARY:Cornerstone Ceremony
DESCRIPTION:Join us October 20th for the formal dedication of the new Bahia Shrine Center Cornerstone by the Most Worshipful Grand Lodge of Free and Accepted Masons of Florida.\n\nYour presence is requested at this most auspicious occasion.\n\n John E Karroum\, Grand Master of Masons in Florida\, and the Grand Lodge Officers will perform the cornerstone ceremony dedicating bahia shrine center.\n\nThis is a FORMAL OCCASSION! Please wear your Unit Uniforms\, business attire or suit please to keep the solemnity of this important event.\n\nRefreshments will be served in the Red Fez Lounge at the conclusion of the ceremony.
X-ALT-DESC;FMTTYPE=text/html:<p>Join us October 20th for the formal dedication of the new Bahia Shrine Center Cornerstone by the Most Worshipful Grand Lodge of Free and Accepted Masons of Florida.</p>\n\n<p>Your presence is requested at this most auspicious occasion.</p>\n\n<p>&nbsp\;John E Karroum\, Grand Master of Masons in Florida\, and the Grand Lodge Officers will perform the cornerstone ceremony dedicating bahia shrine center.</p>\n\n<p>This is a&nbsp\;<strong><span style="font-family: calibri\,sans-serif\;">FORMAL OCCASSION!</span></strong>&nbsp\;Please wear your Unit Uniforms\, business attire or suit&nbsp\;<em><span style="font-family: calibri\,sans-serif\;">please</span></em>&nbsp\;to keep the solemnity of this important event.</p>\n\n<p>Refreshments will be served in the Red Fez Lounge at the conclusion of the ceremony.</p>\n
LOCATION:Bahia Shrine Center 3101 E Semoran Blvd Apopka\, FL 32703
UID:e.2138.14795
SEQUENCE:3
DTSTAMP:20260424T021953Z
URL:https://business.seminolebusiness.org/events/details/cornerstone-ceremony-14795
END:VEVENT

END:VCALENDAR
