BEGIN:VCALENDAR
VERSION:2.0
PRODID:-//ChamberMaster//Event Calendar 2.0//EN
METHOD:PUBLISH
X-PUBLISHED-TTL:P3D
REFRESH-INTERVAL:P3D
CALSCALE:GREGORIAN
BEGIN:VEVENT
DTSTART:20190820T223000Z
DTEND:20190820T233000Z
X-MICROSOFT-CDO-ALLDAYEVENT:FALSE
SUMMARY:Cruise Event at Expedia CruiseShipCenters\, Longwood
DESCRIPTION:Expedia CruiseShipCenters in Longwood is excited to extend an exclusive invitation to you for our upcoming Norwegian Cruise Night on Aug 20th. We'll be featuring exciting door prizes and light refreshments!\n\n\n\nPlease join us in welcoming Penny Paxton from Norwegian Cruises\, to learn more about their awesome itineraries & ships. Plus\, you'll also be the first to learn about our upcoming Freestyle Sale\, and the exciting Expedia Extras you can enjoy when you book your next cruise with us!\n\n\n\nMake sure to mark your calendars\, and join us for this fun and informative event. Contact us today to RSVP   we look forward to seeing you!
X-ALT-DESC;FMTTYPE=text/html:<span style="color:rgb(29\, 33\, 41)\; font-family:helvetica\,arial\,sans-serif\; font-size:14px">Expedia CruiseShipCenters in Longwood is excited to extend an exclusive invitation to you for our upcoming Norwegian Cruise Night on Aug 20th. We&#39\;ll be featuring exciting door prizes and light refreshments!</span><br />\n<br />\n<span style="color:rgb(29\, 33\, 41)\; font-family:helvetica\,arial\,sans-serif\; font-size:14px">Please join us in welcoming Penny Paxton from Norwegian Cruises\, to learn more about their awesome itineraries &amp\; ships. Plus\, you&#39\;ll also be the first to learn about our upcoming Freestyle Sale\, and the exciting Expedia Extras you can enjoy when you book your next cruise with us!</span><br />\n<br />\n<span style="color:rgb(29\, 33\, 41)\; font-family:helvetica\,arial\,sans-serif\; font-size:14px">Make sure to mark your calendars\, and join us for this fun and informative event. Contact us today to RSVP &ndash\; we look forward to seeing you!</span>
LOCATION:Expedia CruiseShipCenters 1877 W State Road 434\, Longwood\, FL (next to 4Rivers BBQ in IOA Plaza)
UID:e.2138.16538
SEQUENCE:3
DTSTAMP:20260422T034807Z
URL:https://business.seminolebusiness.org/events/details/cruise-event-at-expedia-cruiseshipcenters-longwood-16538
END:VEVENT

END:VCALENDAR
