BEGIN:VCALENDAR
VERSION:2.0
PRODID:-//ChamberMaster//Event Calendar 2.0//EN
METHOD:PUBLISH
X-PUBLISHED-TTL:P3D
REFRESH-INTERVAL:P3D
CALSCALE:GREGORIAN
BEGIN:VEVENT
DTSTART:20140517T150000Z
DTEND:20140517T210000Z
X-MICROSOFT-CDO-ALLDAYEVENT:FALSE
SUMMARY:Customer Appreciation Event
DESCRIPTION:Headquarter Hyundai opened it's doors a year ago this month.  What a year it has been.  We would like to thank all of our valued customers\, with a day dedicated to them.  Hamburgers\, hotdogs\, soda\, water and more!! Come hang out and have some fun.\nMay 17th is also Armed forces day so we would love for the military members out there to join us in the celebration.
X-ALT-DESC;FMTTYPE=text/html:Headquarter Hyundai opened it's doors a year ago this month.  What a year it has been.  We would like to thank all of our valued customers\, with a day dedicated to them.  Hamburgers\, hotdogs\, soda\, water and more!! Come hang out and have some fun.\nMay 17th is also Armed forces day so we would love for the military members out there to join us in the celebration.
LOCATION:Headquarter Hyundai is on 17-92 across from Seminole State college in beautiful Sanford Florida. We are about 3 miles north of 434. We are 1.75 south of Lake Mary Blvd
UID:e.2138.1578
SEQUENCE:3
DTSTAMP:20260420T111925Z
URL:https://business.seminolebusiness.org/events/details/customer-appreciation-event-05-17-2014-1578
END:VEVENT

END:VCALENDAR
