BEGIN:VCALENDAR
VERSION:2.0
PRODID:-//ChamberMaster//Event Calendar 2.0//EN
METHOD:PUBLISH
X-PUBLISHED-TTL:P3D
REFRESH-INTERVAL:P3D
CALSCALE:GREGORIAN
BEGIN:VEVENT
DTSTART:20140501T153000Z
DTEND:20140501T170000Z
X-MICROSOFT-CDO-ALLDAYEVENT:FALSE
SUMMARY:Cyber Attacks!
DESCRIPTION:We've all seen the headlines. Overseas criminals are out to get your information. The \ngovernment is spying on us. China wants your \ntrade secrets. Your website has been hacked.\nIt's a dangerous world for your information!\nJoin StackFrame's experts for a FREE lunch to \nfind out the latest threats directly from the FBI \nand other leading security organizations and \nthe ways your company - and you - can protect \nitself from harm.\nYou'll leave with simple steps to make your \ninformation and systems secure and give you \npeace of mind in the cyber world.
X-ALT-DESC;FMTTYPE=text/html:We've all seen the headlines. Overseas criminals are out to get your information. The \ngovernment is spying on us. China wants your \ntrade secrets. Your website has been hacked.\nIt's a dangerous world for your information!\nJoin StackFrame's experts for a FREE lunch to \nfind out the latest threats directly from the FBI \nand other leading security organizations and \nthe ways your company - and you - can protect \nitself from harm.\nYou'll leave with simple steps to make your \ninformation and systems secure and give you \npeace of mind in the cyber world.
LOCATION:Shula's 347\, Westin Lake Mary
UID:e.2138.1581
SEQUENCE:3
DTSTAMP:20260420T111845Z
URL:https://business.seminolebusiness.org/events/details/cyber-attacks-05-01-2014-1581
END:VEVENT

END:VCALENDAR
