BEGIN:VCALENDAR
VERSION:2.0
PRODID:-//ChamberMaster//Event Calendar 2.0//EN
METHOD:PUBLISH
X-PUBLISHED-TTL:P3D
REFRESH-INTERVAL:P3D
CALSCALE:GREGORIAN
BEGIN:VEVENT
DTSTART:20180605T140000Z
DTEND:20180605T153000Z
X-MICROSOFT-CDO-ALLDAYEVENT:FALSE
SUMMARY:Cyber Security Tools and Tips
DESCRIPTION:Ensure that you and your employees have the cyber awareness necessary to assist you in keeping your business safe from ransomware and other cyber attacks
X-ALT-DESC;FMTTYPE=text/html:<span style="color: rgb(94\, 94\, 94)\; font-family: open sans\,sans-serif\; font-size: 16px\;">Ensure that you and your employees have the cyber awareness necessary to assist you in keeping your business safe from ransomware and other cyber attacks&nbsp\;</span>
LOCATION:Crealde Executive Center 2431 Aloma Avenue Winter Park\, FL\, 32792
UID:e.2138.9369
SEQUENCE:3
DTSTAMP:20260424T083028Z
URL:https://business.seminolebusiness.org/events/details/cyber-security-tools-and-tips-9369
END:VEVENT

END:VCALENDAR
