BEGIN:VCALENDAR
VERSION:2.0
PRODID:-//ChamberMaster//Event Calendar 2.0//EN
METHOD:PUBLISH
X-PUBLISHED-TTL:P3D
REFRESH-INTERVAL:P3D
CALSCALE:GREGORIAN
BEGIN:VEVENT
DTSTART:20170618T180000Z
DTEND:20170618T231500Z
X-MICROSOFT-CDO-ALLDAYEVENT:FALSE
SUMMARY:Dad's Skate Free on Father's Day! RDV Sportsplex Ice Den
DESCRIPTION:On Father's Day\, Sunday\, June 18 Dad skates for free with the purchase of one child's admission at RDV Sportsplex Ice Den! Public skating is from 2:00-3:45pm and 5:30-7:15pm!
X-ALT-DESC;FMTTYPE=text/html:On Father&#39\;s Day\, Sunday\, June 18 Dad skates for free with the purchase of one child&#39\;s admission at RDV Sportsplex Ice Den! Public skating is from 2:00-3:45pm and 5:30-7:15pm!
LOCATION:RDV Sportsplex Ice Den 8701 Maitland Summit Blvd Orlando\, FL 32810
UID:e.2138.7580
SEQUENCE:3
DTSTAMP:20260423T223455Z
URL:https://business.seminolebusiness.org/events/details/dad-s-skate-free-on-father-s-day-rdv-sportsplex-ice-den-7580
END:VEVENT

END:VCALENDAR
