BEGIN:VCALENDAR
VERSION:2.0
PRODID:-//ChamberMaster//Event Calendar 2.0//EN
METHOD:PUBLISH
X-PUBLISHED-TTL:P3D
REFRESH-INTERVAL:P3D
CALSCALE:GREGORIAN
BEGIN:VEVENT
DTSTART:20231007T213000Z
DTEND:20231008T030000Z
X-MICROSOFT-CDO-ALLDAYEVENT:FALSE
SUMMARY:Dave's House Party 2023
DESCRIPTION:Dave's House Party 2023\n\n\n\nPresenting the first annual\n\nDr. JOEL C. HUNTER LEGACY AWARD\n\nto Dr. Joel C. Hunter for his dedication to end homelessness & humanitarian outreach.\n\n&\n\nA CONCERT FEATURING\n\nTODD TILGHMAN\n\nWINNER OF THE VOICE SEASON 18\n\nSponsored by AdventHealth\n\n \n\nSaturday\, October 7\n\n5:30pm VIP Hour   VIP Ticket Holders\n\n6:30 pm - Standard Ticket Admission\n\n \n\nTICKETS & SPONSORSHIPS\n\n$250 per person - $400 (two tickets)\n\nVIP Tickets $350 per person - $550 (two VIP tickets)\n\n \n\nSponsorships Available Contact:  Suzie Marrotte\, Marketing Coordinator   Dave's House\n\nsuzie@daveshouse.org or 407-704-9278\n\n \n\nOrlando Museum of Art\n\n2416 North Mills Avenue\n\nOrlando\, FL 32803\n\n \n\nCocktails - Hors D'Oeuvres - Silent Auction \n\nCocktail Attire\n\nDHP 2023 presents the opportunity to partner in this important mission to make a financial gift that will transform lives and give hope to people with serious mental illness through creating stable homes that provide lasting recovery.\n\n \n\nRSVP \n\nSeptember 1\, 2023\n\nA formal invitation will also arrive via USPS \n\nFor tickets & sponsorships please visit https://bit.ly/DavesHouseParty23\n\n \n\n* This event is neither sponsored nor endorsed by the Orlando Museum of Art
X-ALT-DESC;FMTTYPE=text/html:&nbsp\; &nbsp\; &nbsp\; &nbsp\; <strong><span style="font-size:22px">&nbsp\; &nbsp\; Dave&rsquo\;s House Party 2023</span></strong><br />\n<br />\nPresenting the first annual<br />\nDr. JOEL C. HUNTER LEGACY AWARD<br />\nto Dr. Joel C. Hunter for his dedication to end homelessness &amp\; humanitarian outreach.<br />\n&amp\;<br />\nA CONCERT FEATURING<br />\nTODD TILGHMAN<br />\nWINNER OF THE VOICE SEASON 18<br />\nSponsored by AdventHealth<br />\n&nbsp\;<br />\nSaturday\, October 7<br />\n5:30pm VIP Hour &ndash\; VIP Ticket Holders<br />\n6:30 pm - Standard Ticket Admission<br />\n&nbsp\;<br />\nTICKETS &amp\; SPONSORSHIPS<br />\n$250 per person - $400 (two tickets)<br />\nVIP Tickets $350 per person - $550 (two VIP tickets)<br />\n&nbsp\;<br />\nSponsorships Available Contact:&nbsp\; Suzie Marrotte\, Marketing Coordinator &ndash\; Dave&rsquo\;s House<br />\n<strong><a href="mailto:suzie@daveshouse.org?subject=Dave's%20House%20Party%20Information%20Needed">suzie@daveshouse.org</a></strong> or 407-704-9278<br />\n&nbsp\;<br />\nOrlando Museum of Art<br />\n2416 North Mills Avenue<br />\nOrlando\, FL 32803<br />\n&nbsp\;<br />\nCocktails - Hors D&rsquo\;Oeuvres - Silent Auction&nbsp\;<br />\nCocktail Attire<br />\nDHP 2023 presents the opportunity to partner in this important mission to make a financial gift that will transform lives and give hope to people with serious mental illness through creating stable homes that provide lasting recovery.<br />\n&nbsp\;<br />\nRSVP&nbsp\;<br />\nSeptember 1\, 2023<br />\nA formal invitation will also arrive via USPS&nbsp\;<br />\nFor tickets &amp\; sponsorships please visit <strong><a href="https://bit.ly/DavesHouseParty23">https://bit.ly/DavesHouseParty23</a></strong><br />\n&nbsp\;<br />\n* This event is neither sponsored nor endorsed by the Orlando Museum of Art
LOCATION:Orlando Museum of Art 2416 North Mills Avenue Orlando\, FL 32803
UID:e.2138.32935
SEQUENCE:3
DTSTAMP:20260424T233259Z
URL:https://business.seminolebusiness.org/events/details/dave-s-house-party-2023-32935
END:VEVENT

END:VCALENDAR
