BEGIN:VCALENDAR
VERSION:2.0
PRODID:-//ChamberMaster//Event Calendar 2.0//EN
METHOD:PUBLISH
X-PUBLISHED-TTL:P3D
REFRESH-INTERVAL:P3D
CALSCALE:GREGORIAN
BEGIN:VEVENT
DTSTART:20180328T140000Z
DTEND:20180328T153000Z
X-MICROSOFT-CDO-ALLDAYEVENT:FALSE
SUMMARY:Digital Marketing/Social Media
DESCRIPTION:Learn what social networks your customers are on and the best strategy to reach them\, keep them\, and get them to share your content and drive your marketing message. Our  local panel of digital marketing experts will talk about various platforms\, analytics\, and share some of the latest trends in social media.
X-ALT-DESC;FMTTYPE=text/html:Learn what social networks your customers are on and the best strategy to reach them\, keep them\, and get them to share your content and drive your marketing message. Our&nbsp\; local panel of digital marketing experts will talk about various platforms\, analytics\, and share some of the latest trends in social media.
LOCATION:Seminole County Public Library / Jean Rhein Central Branch\, Casselberry 215 N Oxford Rd Casselberry\, FL 32707
UID:e.2138.8802
SEQUENCE:3
DTSTAMP:20260424T130328Z
URL:https://business.seminolebusiness.org/events/details/digital-marketing-social-media-8802
END:VEVENT

END:VCALENDAR
