BEGIN:VCALENDAR
VERSION:2.0
PRODID:-//ChamberMaster//Event Calendar 2.0//EN
METHOD:PUBLISH
X-PUBLISHED-TTL:P3D
REFRESH-INTERVAL:P3D
CALSCALE:GREGORIAN
BEGIN:VEVENT
DTSTART:20181204T163000Z
DTEND:20181204T180000Z
X-MICROSOFT-CDO-ALLDAYEVENT:FALSE
SUMMARY:Dillard's Fashion Show benefiting UCP of Central Florida
DESCRIPTION:Join Dillard's at Florida Mall in supporting UCP of Central Florida. Enjoy lunch and a fashion show while learning more about UCP's children and families. Shop the entire store: products like Rolex\, Hermes\, LV\, Gucci\, Prada & more! 10% of your sales will be donated directly to UCP of Central Florida. Can't attend? Shop prior to the event and Dillard's will ring your purchase on the 4th so UCP will receive your donation!
X-ALT-DESC;FMTTYPE=text/html:Join Dillard&#39\;s at Florida Mall in supporting UCP of Central Florida. Enjoy lunch and a fashion show while learning more about UCP&#39\;s children and families. Shop the entire store: products like Rolex\, Hermes\, LV\, Gucci\, Prada &amp\; more! 10% of your sales will be donated directly to UCP of Central Florida. Can&#39\;t attend? Shop prior to the event and Dillard&#39\;s will ring your purchase on the 4th so UCP will receive your donation!
LOCATION:Florida Mall 8001 S Orange Blossom Trail Orlando\, FL 32809
UID:e.2138.14810
SEQUENCE:3
DTSTAMP:20260423T233054Z
URL:https://business.seminolebusiness.org/events/details/dillard-s-fashion-show-benefiting-ucp-of-central-florida-14810
END:VEVENT

END:VCALENDAR
