BEGIN:VCALENDAR
VERSION:2.0
PRODID:-//ChamberMaster//Event Calendar 2.0//EN
METHOD:PUBLISH
X-PUBLISHED-TTL:P3D
REFRESH-INTERVAL:P3D
CALSCALE:GREGORIAN
BEGIN:VEVENT
DTSTART:20190517T230000Z
DTEND:20190518T010000Z
X-MICROSOFT-CDO-ALLDAYEVENT:FALSE
SUMMARY:Disney Sing Along Trivia Night
DESCRIPTION:Warm up your vocal cords and get ready to sing along. This Disney trivia night is all about your favorite songs and how well you actually know the lyrics or who sings them! Its sure to be a fun filled night of music\, disney\, and more!
X-ALT-DESC;FMTTYPE=text/html:Warm up your vocal cords and get ready to sing along. This Disney trivia night is all about your favorite songs and how well you actually know the lyrics or who sings them! Its sure to be a fun filled night of music\, disney\, and more!&nbsp\;
LOCATION:Boston Coffeehouse Altamonte Springs 851 S SR 434 Altamonte Springs FL 32714
UID:e.2138.15150
SEQUENCE:3
DTSTAMP:20260422T081030Z
URL:https://business.seminolebusiness.org/events/details/disney-sing-along-trivia-night-15150
END:VEVENT

END:VCALENDAR
