BEGIN:VCALENDAR
VERSION:2.0
PRODID:-//ChamberMaster//Event Calendar 2.0//EN
METHOD:PUBLISH
X-PUBLISHED-TTL:P3D
REFRESH-INTERVAL:P3D
CALSCALE:GREGORIAN
BEGIN:VEVENT
DTSTART:20190712T130000Z
DTEND:20190712T160000Z
X-MICROSOFT-CDO-ALLDAYEVENT:FALSE
SUMMARY:Doing Business With The Airport
DESCRIPTION:Meet with Airport Representatives and Tenants to learn more about the various business opportunities at the Orlando Sanford International Airport. DBEs and ACDBEs are encouraged to attend.
X-ALT-DESC;FMTTYPE=text/html:Meet with Airport Representatives and Tenants to learn more about the various business opportunities at the Orlando Sanford International Airport. DBEs and ACDBEs are encouraged to attend.
LOCATION:Vigilante Room at the Rental Car Welcome Center Orlando Sanford International Airport 1200 Red Cleveland Boulevard Sanford\, FL 32773
UID:e.2138.16224
SEQUENCE:3
DTSTAMP:20260422T051439Z
URL:https://business.seminolebusiness.org/events/details/doing-business-with-the-airport-16224
END:VEVENT

END:VCALENDAR
