BEGIN:VCALENDAR
VERSION:2.0
PRODID:-//ChamberMaster//Event Calendar 2.0//EN
METHOD:PUBLISH
X-PUBLISHED-TTL:P3D
REFRESH-INTERVAL:P3D
CALSCALE:GREGORIAN
BEGIN:VEVENT
DTSTART:20160830T020000Z
DTEND:20160922T200000Z
X-MICROSOFT-CDO-ALLDAYEVENT:FALSE
SUMMARY:Dominic Sansone
DESCRIPTION:The season opens with a one-of-a-kind site-specific installation exhibit created by Dominic Sansone.  The artist will transform the gallery into his reimagined vision of the Washington Monument's reflecting pool.  Mr. Sansone received a B.F.A. from the University of Illinois Urbana Champaign and a M.F.A. from the Herron School of Art and Design in Indianapolis.  After completing his studies\, he spent two years working for an aerospace company producing fabrication and assembly drawings for satellites\, military aircraft\, and mobile artillery units.
X-ALT-DESC;FMTTYPE=text/html:<br />\nThe season opens with a one-of-a-kind site-specific installation exhibit created by Dominic Sansone. &nbsp\;The artist will transform the gallery into his reimagined vision of the Washington Monument&rsquo\;s reflecting pool. &nbsp\;Mr. Sansone received a B.F.A. from the University of Illinois Urbana Champaign and a M.F.A. from the Herron School of Art and Design in Indianapolis. &nbsp\;After completing his studies\, he spent two years working for an aerospace company producing fabrication and assembly drawings for satellites\, military aircraft\, and mobile artillery units.
LOCATION:Seminole State College of Florida 100 Weldon Boulevard\, Sanford\, FL 32773 407.708.2704
UID:e.2138.4754
SEQUENCE:3
DTSTAMP:20260425T175838Z
URL:https://business.seminolebusiness.org/events/details/dominic-sansone-08-29-2016-4754
END:VEVENT

END:VCALENDAR
