BEGIN:VCALENDAR
VERSION:2.0
PRODID:-//ChamberMaster//Event Calendar 2.0//EN
METHOD:PUBLISH
X-PUBLISHED-TTL:P3D
REFRESH-INTERVAL:P3D
CALSCALE:GREGORIAN
BEGIN:VEVENT
DTSTART;VALUE=DATE:20190118
DTEND;VALUE=DATE:20190119
TRANSP:TRANSPARENT
X-MICROSOFT-CDO-ALLDAYEVENT:TRUE
SUMMARY:Double Points Day!!!
DESCRIPTION:Download the Chicken Salad Chick Craving Credits APP! For every Dollar you spend you get a point and the points add up quickly to free food and merchandise! Join us January 18th for DOUBLE POINTS DAY! We do it only once a month so don't miss out!
X-ALT-DESC;FMTTYPE=text/html:Download the Chicken Salad Chick Craving Credits APP! For every Dollar you spend you get a point and the points add up quickly to free food and merchandise! Join us January 18th for DOUBLE POINTS DAY! We do it only once a month so don&#39\;t miss out!&nbsp\;
LOCATION:Chicken Salad Chick Lake Mary 1101 International Parkway Lake Mary\, FL\, 32746
UID:e.2138.14866
SEQUENCE:3
DTSTAMP:20260423T214111Z
URL:https://business.seminolebusiness.org/events/details/double-points-day-14866
END:VEVENT

END:VCALENDAR
