BEGIN:VCALENDAR
VERSION:2.0
PRODID:-//ChamberMaster//Event Calendar 2.0//EN
METHOD:PUBLISH
X-PUBLISHED-TTL:P3D
REFRESH-INTERVAL:P3D
CALSCALE:GREGORIAN
BEGIN:VEVENT
DTSTART:20160925T190000Z
DTEND:20160925T200000Z
X-MICROSOFT-CDO-ALLDAYEVENT:FALSE
SUMMARY:Dr. J's Beauty Secrets - only 3 seats left
DESCRIPTION:We are proud to offer a class to help people have healthier skin\, hair and nails naturally and often at less cost. Use things you already have in your kitchen to keep hair and nails healthy.
X-ALT-DESC;FMTTYPE=text/html:We are proud to offer a class to help people have healthier skin\, hair and nails naturally and often at less cost. Use things you already have in your kitchen to keep hair and nails healthy.&nbsp\;
LOCATION:660 Florida Central Pkwy Longwood\, FL 32750
UID:e.2138.4861
SEQUENCE:3
DTSTAMP:20260425T175837Z
URL:https://business.seminolebusiness.org/events/details/dr-j-s-beauty-secrets-09-25-2016-4861
END:VEVENT

END:VCALENDAR
