BEGIN:VCALENDAR
VERSION:2.0
PRODID:-//ChamberMaster//Event Calendar 2.0//EN
METHOD:PUBLISH
X-PUBLISHED-TTL:P3D
REFRESH-INTERVAL:P3D
CALSCALE:GREGORIAN
BEGIN:VEVENT
DTSTART:20250830T150000Z
DTEND:20250830T180000Z
X-MICROSOFT-CDO-ALLDAYEVENT:FALSE
SUMMARY:Drag Brunch at Hollerbach's!
DESCRIPTION:Join us on Saturday\, August 30th from 11AM to 2PM for an unforgettable experience at Hollerbach's German Restaurant in Sanford\, FL. We're turning up the sparkle for our very first Drag Brunch\, and you're invited to feast\, laugh\, and cheer with an incredible lineup of queens!\n\nMeet the Queens:\n\nRaquel Markstone\n\nAshley Satine\n\nAysia Black\n\nBridgette\n\nThis fabulous brunch includes a full buffet + dazzling drag show all for just $39. Seats are limited\, so don't wait grab your tickets early and prepare for fierce performances\, fierce fashion\, and fierce fun.\n\nMimosa and Bloody Mary bar will be available for additional purchase at the event.\n\nPurchase your ticket today before we sell out!\n\nLocation: 2nd Floor of Hollerbach's German restaurant\n\n205 E 1st Street Sanford\, FL 32771\n\nLet's eat\, drink\, and werk!
X-ALT-DESC;FMTTYPE=text/html:<div>Join us on Saturday\, August 30th from 11AM to 2PM for an unforgettable experience at Hollerbach&rsquo\;s German Restaurant in Sanford\, FL. We&#39\;re turning up the sparkle for our very first Drag Brunch\, and you&rsquo\;re invited to feast\, laugh\, and cheer with an incredible lineup of queens!</div>\n\n<div>Meet the Queens:</div>\n\n<div>Raquel Markstone<br />\nAshley Satine<br />\nAysia Black<br />\nBridgette</div>\n\n<div>This fabulous brunch includes a full buffet + dazzling drag show all for just $39. Seats are limited\, so don&rsquo\;t wait grab your tickets early and prepare for fierce performances\, fierce fashion\, and fierce fun.</div>\n\n<div>Mimosa and Bloody Mary bar will be available for additional purchase at the event.</div>\n\n<div>Purchase your ticket today before we sell out!<br />\nLocation: 2nd Floor of Hollerbach&#39\;s German restaurant</div>\n\n<div>205 E 1st Street Sanford\, FL 32771</div>\n\n<div>Let&rsquo\;s eat\, drink\, and werk!</div>\n
LOCATION:205 E. 1st Street Sanford\, FL 32771 - second floor
UID:e.2138.37833
SEQUENCE:3
DTSTAMP:20260423T084819Z
URL:https://business.seminolebusiness.org/events/details/drag-brunch-at-hollerbach-s-37833
END:VEVENT

END:VCALENDAR
