BEGIN:VCALENDAR
VERSION:2.0
PRODID:-//ChamberMaster//Event Calendar 2.0//EN
METHOD:PUBLISH
X-PUBLISHED-TTL:P3D
REFRESH-INTERVAL:P3D
CALSCALE:GREGORIAN
BEGIN:VEVENT
DTSTART:20190112T150000Z
DTEND:20190112T210000Z
X-MICROSOFT-CDO-ALLDAYEVENT:FALSE
SUMMARY:ECPI University - Career Discovery Day
DESCRIPTION:This open house event is designed to show you how you can match your passion with a career direction. Don't wait! RSVP to start your future!
X-ALT-DESC;FMTTYPE=text/html:This open house event is designed to show you how you can match your passion with a career direction. Don&#39\;t wait! RSVP to start your future!<br />\n&nbsp\;
LOCATION:660 Century Point\, STE 1050 Lake Mary\, FL 32746 844.334.7191
UID:e.2138.14851
SEQUENCE:3
DTSTAMP:20260423T214315Z
URL:https://business.seminolebusiness.org/events/details/ecpi-university-career-discovery-day-14851
END:VEVENT

END:VCALENDAR
