BEGIN:VCALENDAR
VERSION:2.0
PRODID:-//ChamberMaster//Event Calendar 2.0//EN
METHOD:PUBLISH
X-PUBLISHED-TTL:P3D
REFRESH-INTERVAL:P3D
CALSCALE:GREGORIAN
BEGIN:VEVENT
DTSTART:20170507T170000Z
DTEND:20170507T220000Z
X-MICROSOFT-CDO-ALLDAYEVENT:FALSE
SUMMARY:Ed Henry at Wayne Densch Performing Arts Center
DESCRIPTION:Join Fox Correspondent Ed Henry as he presents his new book 42 Faith: The Rest of the Jackie Robinson Story.  Also learn more about Boys & Girls Clubs of Central Florida - his charity of choice.
X-ALT-DESC;FMTTYPE=text/html:Join Fox Correspondent Ed Henry as he presents his new book 42 Faith: The Rest of the Jackie Robinson Story.&nbsp\; Also learn more about Boys &amp\; Girls Clubs of Central Florida - his charity of choice.
LOCATION:Wayne Densch Performing Arts Center 201 S. Magnolia Sanford\, FL 32771
UID:e.2138.6728
SEQUENCE:3
DTSTAMP:20260423T223302Z
URL:https://business.seminolebusiness.org/events/details/ed-henry-at-wayne-densch-performing-arts-center-6728
END:VEVENT

END:VCALENDAR
