BEGIN:VCALENDAR
VERSION:2.0
PRODID:-//ChamberMaster//Event Calendar 2.0//EN
METHOD:PUBLISH
X-PUBLISHED-TTL:P3D
REFRESH-INTERVAL:P3D
CALSCALE:GREGORIAN
BEGIN:VEVENT
DTSTART:20190917T230000Z
DTEND:20190918T010000Z
X-MICROSOFT-CDO-ALLDAYEVENT:FALSE
SUMMARY:Elderberry Syrup Workshop
DESCRIPTION:It's that time of year again! Be prepared before the winter and seasonal Invaders are upon our families\, \n\n\n\nLearn to make ELDERBERRY SYRUP! Not only will you leave with the skills to make more for yourself or as gifts\, but you'll leave with a delicious & effective bottle of elderberry syrup made by you!\n\n\n\nElderberries are one of my most-used go-to remedies for cooler months. The dried berries of the Sambucis Nigra plant are naturally high in immune-boosting compounds that are specifically shown to help beat the cold and flu more quickly. They can be used to make a variety of remedies\, and my favorite is this simple elderberry syrup.\n\n\n\nMake and Take Elderberry Syryp $12.00
X-ALT-DESC;FMTTYPE=text/html:<span style="color:rgb(29\, 33\, 41)\; font-family:helvetica\,arial\,sans-serif\; font-size:14px">It&rsquo\;s that time of year again! Be prepared before the winter and seasonal Invaders are upon our families\, </span><br />\n<br />\n<span style="color:rgb(29\, 33\, 41)\; font-family:helvetica\,arial\,sans-serif\; font-size:14px">Learn to make ELDERBERRY SYRUP! Not only will you leave with the skills to make more for yourself or as gifts\, but you&rsquo\;ll leave with a delicious &amp\; effective bottle of elderberry syrup made by you!</span><br />\n<br />\n<span style="color:rgb(29\, 33\, 41)\; font-family:helvetica\,arial\,sans-serif\; font-size:14px">Elderberries are one of my most-used go-to remedies for cooler months. The dried berries of the Sambucis Nigra plant are naturally high in immune-boosting compounds that are specifically shown to help beat the cold and flu more quickly. They can be used to make a variety of remedies\, and my favorite is this simple elderberry syrup.</span><br />\n<br />\n<span style="color:rgb(29\, 33\, 41)\; font-family:helvetica\,arial\,sans-serif\; font-size:14px">Make and Take Elderberry Syryp $12.00</span>
LOCATION:854 N. Division St. Oviedo\, FL 32765
UID:e.2138.16558
SEQUENCE:3
DTSTAMP:20260422T021253Z
URL:https://business.seminolebusiness.org/events/details/elderberry-syrup-workshop-16558
END:VEVENT

END:VCALENDAR
