BEGIN:VCALENDAR
VERSION:2.0
PRODID:-//ChamberMaster//Event Calendar 2.0//EN
METHOD:PUBLISH
X-PUBLISHED-TTL:P3D
REFRESH-INTERVAL:P3D
CALSCALE:GREGORIAN
BEGIN:VEVENT
DTSTART:20190927T120000Z
DTEND:20190927T133000Z
X-MICROSOFT-CDO-ALLDAYEVENT:FALSE
SUMMARY:Empowerment Breakfast Networking
DESCRIPTION:Share how you Empower others\n\nLearn how you can be empowered!\n\nNetworking\, Great Breakfast\n\nMake New Connections\n\nFree Gifts for all Guests
X-ALT-DESC;FMTTYPE=text/html:<strong>Share how you Empower others<br />\nLearn how you can be empowered!<br />\nNetworking\, Great Breakfast<br />\nMake New Connections<br />\nFree Gifts for all Guests</strong>
LOCATION:Boston Coffeehouse Altamonte 51 S SR 434 Ste 1190 Altamonte Springs\, FL 32810
UID:e.2138.16532
SEQUENCE:3
DTSTAMP:20260422T021913Z
URL:https://business.seminolebusiness.org/events/details/empowerment-breakfast-networking-09-27-2019-16532
END:VEVENT

END:VCALENDAR
