BEGIN:VCALENDAR
VERSION:2.0
PRODID:-//ChamberMaster//Event Calendar 2.0//EN
METHOD:PUBLISH
X-PUBLISHED-TTL:P3D
REFRESH-INTERVAL:P3D
CALSCALE:GREGORIAN
BEGIN:VEVENT
DTSTART:20160825T223000Z
DTEND:20160826T010000Z
X-MICROSOFT-CDO-ALLDAYEVENT:FALSE
SUMMARY:End of Summer Koko Night!
DESCRIPTION:August is already here! And this is a great time to recharge your fitness life and change your body. Now that summer vacations are over\, family visits are gone and kids go back to school it's the perfect time to dedicate yourself some "me" time and take back your fitness goals. Don't stress out! There's still time to get - and stay - in great shape and stay that way for the rest of the year.\n\n\nJoin us for our End of Summer Koko Social Night Thursday\, August 25th at 6:30pm!\n\n \nCome tour our facility and meet our owners\, coaches and Koko members! Bring your friends and family. Enjoy an evening of unparalleled mental stimulation and great conversation that will motivate you to get on track!\n\n \n\nWe will have healthy snacks\, the infamous Koko wheel for door prizes and special rewards for the amazing achievements of our members!
X-ALT-DESC;FMTTYPE=text/html:<div>August is already here!&nbsp\;And this is a great time to recharge your fitness life and change your body. Now that summer vacations are over\, family visits are gone and kids go back to school it&#39\;s the perfect time to dedicate yourself some &quot\;me&quot\; time and take back your fitness goals. Don&#39\;t stress out! There&#39\;s still time to get - and stay&nbsp\;- in great shape and stay that way for the rest of the year.</div>\n<br />\nJoin us for our End of Summer Koko Social Night Thursday\, August 25th at 6:30pm!<br />\n&nbsp\;\n<div>Come tour our facility and meet our&nbsp\;owners\, coaches and Koko members!&nbsp\;Bring your friends and family.&nbsp\;Enjoy an evening of unparalleled mental stimulation and great conversation that will&nbsp\;motivate you to&nbsp\;get on track!</div>\n\n<div>&nbsp\;</div>\n\n<div>We will have healthy snacks\, the infamous Koko wheel for door prizes and special rewards for the amazing achievements of our members!</div>\n
LOCATION:Koko FitClub 1120 Townpark Ave Ste. B1012 Lake Mary\, FL 32746
UID:e.2138.4768
SEQUENCE:3
DTSTAMP:20260425T193438Z
URL:https://business.seminolebusiness.org/events/details/end-of-summer-koko-night-08-25-2016-4768
END:VEVENT

END:VCALENDAR
