BEGIN:VCALENDAR
VERSION:2.0
PRODID:-//ChamberMaster//Event Calendar 2.0//EN
METHOD:PUBLISH
X-PUBLISHED-TTL:P3D
REFRESH-INTERVAL:P3D
CALSCALE:GREGORIAN
BEGIN:VEVENT
DTSTART:20190228T220000Z
DTEND:20190301T000000Z
X-MICROSOFT-CDO-ALLDAYEVENT:FALSE
SUMMARY:End of Winter Celebration / Happy Hour with FORSTER BOUGHMAN & LEFKOWITZ and BB&T Wealth
DESCRIPTION:The Law Firm of FORSTER BOUGHMAN & LEFKOWITZ invites you to join them for Happy Hour at Mesa21 to celebrate the End of Winter.  Come on out and bring a friend.  Meet our attorneys and the BB&T Wealth team.
X-ALT-DESC;FMTTYPE=text/html:The Law Firm of FORSTER BOUGHMAN &amp\; LEFKOWITZ invites you to join them for Happy Hour at Mesa21 to celebrate the End of Winter.&nbsp\;&nbsp\;Come on out and bring a friend.&nbsp\; Meet our attorneys and the BB&amp\;T Wealth team.
LOCATION:Mesa 21 1414 N Orange Ave Orlando\, FL 32804
UID:e.2138.14959
SEQUENCE:3
DTSTAMP:20260422T130623Z
URL:https://business.seminolebusiness.org/events/details/end-of-winter-celebration-happy-hour-with-forster-boughman-lefkowitz-and-bb-t-wealth-14959
END:VEVENT

END:VCALENDAR
