BEGIN:VCALENDAR
VERSION:2.0
PRODID:-//ChamberMaster//Event Calendar 2.0//EN
METHOD:PUBLISH
X-PUBLISHED-TTL:P3D
REFRESH-INTERVAL:P3D
CALSCALE:GREGORIAN
BEGIN:VEVENT
DTSTART:20170119T230000Z
DTEND:20170120T010000Z
X-MICROSOFT-CDO-ALLDAYEVENT:FALSE
SUMMARY:Enjoy FREE dinner\, drinks\, and CoolSculpting with Modern Image!!
DESCRIPTION:We're excited to show you why Modern Image is the Central Florida LEADER in CoolSculpting services!\n\nWhat is CoolSculpting?  How does CoolSculpting work?  How can we help you acheive your perfect body?  Attend our upcoming FREE event at The Legacy Club to learn all about CoolSculpting!  RSVP today!\n\n\n\nTake advantage of the "One-Night-Only" deals as well\, and enter for a chance to win a FREE CoolSculpting Session!\n\nThere will be FREE DRINKS\, food\, and a presentation of CoolSculpting!\n\n\n\nSign up today at www.SculptingOrlando.com to reserve your spot!
X-ALT-DESC;FMTTYPE=text/html:<p>We&#39\;re excited to show you why Modern Image is the Central Florida LEADER in CoolSculpting services!<br />\nWhat is CoolSculpting? &nbsp\;How does CoolSculpting work? &nbsp\;How can we help you acheive your perfect body? &nbsp\;Attend our upcoming FREE event at The Legacy Club to learn all about CoolSculpting! &nbsp\;RSVP today!<br />\n<br />\nTake advantage of the &quot\;One-Night-Only&quot\; deals as well\, and enter for a chance to win a FREE CoolSculpting Session!<br />\nThere will be FREE DRINKS\, food\, and a presentation of CoolSculpting!<br />\n<br />\nSign up today at www.SculptingOrlando.com to reserve your spot!</p>\n
LOCATION:The Legacy Club 1700 Alaqua Lakes Boulevard Longwood\, FL 32779
UID:e.2138.6163
SEQUENCE:3
DTSTAMP:20260423T144241Z
URL:https://business.seminolebusiness.org/events/details/enjoy-free-dinner-drinks-and-coolsculpting-with-modern-image-6163
END:VEVENT

END:VCALENDAR
