BEGIN:VCALENDAR
VERSION:2.0
PRODID:-//ChamberMaster//Event Calendar 2.0//EN
METHOD:PUBLISH
X-PUBLISHED-TTL:P3D
REFRESH-INTERVAL:P3D
CALSCALE:GREGORIAN
BEGIN:VEVENT
DTSTART:20171130T223000Z
DTEND:20171201T003000Z
X-MICROSOFT-CDO-ALLDAYEVENT:FALSE
SUMMARY:Enlightend Entrepreneurs Rocking Business Free Meetup!
DESCRIPTION:Attention: Small Business Entrepreneurs\,  Coaches\, Holistic Entrepreneurs/Practitioners.. . who are  overwhelmed with marketing and want to attract more of their ideal clients!\nAre you ready to grow your income\, reach more of your 5 Star clients and make a greater impact doing the work you love?\n\n\n\nThis is a free monthly meetup !\n\n\n\nAs business owners and entrepreneurs\, your time is your most valuable asset. Learning how to leverage and conserve your time by reaching a larger group is key to not only creating time freedom\, but also generating more time freedom in the process.\n\nWe are here to support entrepreneurs in our community to fill their practice and get their message out into the world in a bigger way! We'll dive into marketing strategy\, network with incredible entrepreneurs and support each other to grow a new model of business.\n\nYou'll Learn how to  \n\n  Stand in your value and charge what you're worth\n\n  Effective marketing strategies to attract more of your ideal clients and grow your business \n\n  Stand in your Highest self\, feel empowered and shine in your gifts and expertise \n\n  Master generosity-based networking \n\nEach month you will receive along with networking....\n\nspecific strategies and mindset tools to uplevel your business . These are techniques you will be able to implement immediately!\n\n\n\nClick Here to Join!   https://www.meetup.com/Enlightened-Entrepreneurs-Rocking-Business/\n\nWishing you great joy & abundance!\n\nRuth Stern\, Transformational Business Coach
X-ALT-DESC;FMTTYPE=text/html:<span style="font-size:18px"><span style="font-family:times new roman"><strong><strong>Attention</strong>: Small Business Entrepreneurs\,&nbsp\; Coaches\, Holistic Entrepreneurs/Practitioners.. .</strong></span></span> <span style="font-size:18px">who are&nbsp\; overwhelmed with marketing and want to attract more of their ideal clients!</span>\n<p><span style="font-size:16px"><strong><span style="font-size:18px">Are you ready to grow your income\, reach more of your 5 Star clients and make a greater impact doing the work you love?</span><br />\n<br />\n<span style="color:#FF0000">This is a free monthly meetup !</span></strong><br />\n<br />\nAs business owners and entrepreneurs\, your time is your most valuable asset. Learning how to leverage and conserve your time by reaching a larger group is key to not only <strong>creating </strong>time freedom\, but also generating <strong>more </strong>time freedom in the process.</span></p>\n\n<p><span style="font-size:16px"><strong>We are here to support entrepreneurs in our community to fill their practice and get their message out into the world</strong> in a bigger way! We&#39\;ll dive into marketing strategy\, network with incredible entrepreneurs and support each other to grow a new model of business.</span></p>\n\n<p><span style="font-size:16px"><strong>You&rsquo\;ll Learn how to&hellip\; </strong><br />\n&bull\; Stand in your value and charge what you&rsquo\;re worth</span></p>\n\n<p><span style="font-size:16px">&bull\; Effective marketing strategies to attract more of your ideal clients and grow your business </span></p>\n\n<p><span style="font-size:16px">&bull\;&nbsp\;Stand in your Highest self\, feel empowered and shine in your gifts and expertise </span></p>\n\n<p><span style="font-size:16px">&bull\;&nbsp\;Master generosity-based networking </span></p>\n\n<p><span style="font-size:16px"><span style="color:#0000FF"><strong>Each month you will receive along with networking....</strong></span><br />\n<span style="color:#0000FF"><strong>specific strategies and mindset tools to uplevel your business . These are techniques you will be able to implement immediately!</strong></span><br />\n<br />\nClick Here to Join!&nbsp\;&nbsp\; <a href="https://www.meetup.com/Enlightened-Entrepreneurs-Rocking-Business/">https://www.meetup.com/Enlightened-Entrepreneurs-Rocking-Business/</a></span></p>\n\n<p><span style="font-size:16px">Wishing you great joy &amp\; abundance!<br />\nRuth Stern\, Transformational Business Coach</span></p>\n
LOCATION:Avanti Conference Center 110 Crowne Oaks Centre Longwood Fl 32750
UID:e.2138.8482
SEQUENCE:3
DTSTAMP:20260424T062153Z
URL:https://business.seminolebusiness.org/events/details/enlightend-entrepreneurs-rocking-business-free-meetup-11-30-2017-8482
END:VEVENT

END:VCALENDAR
