BEGIN:VCALENDAR
VERSION:2.0
PRODID:-//ChamberMaster//Event Calendar 2.0//EN
METHOD:PUBLISH
X-PUBLISHED-TTL:P3D
REFRESH-INTERVAL:P3D
CALSCALE:GREGORIAN
BEGIN:VEVENT
DTSTART:20161011T123000Z
DTEND:20161011T140000Z
X-MICROSOFT-CDO-ALLDAYEVENT:FALSE
SUMMARY:Entrepreneur's Law School: Protect Your Business and Yourself
DESCRIPTION:Every business deals with legal issues\, from engaging in contracts\, to hiring and firing employees\, to understanding the ins and outs of intellectual property. Find out what laws and regulations can affect your business before it's too late! Join our experts as they explain what you need to know to reduce your risk and grow your business.\n\n\n\nRegistration starts at 8:15 am\n\nClick here to register
X-ALT-DESC;FMTTYPE=text/html:<span style="color:black"><span style="font-family:century gothic\,sans-serif"><span style="font-size:11.0pt">Every business deals with legal issues\, from engaging in contracts\, to hiring and firing employees\, to understanding the ins and outs of intellectual property. Find out what laws and regulations can affect your business before it&#39\;s too late! Join our experts as they explain what you need to know to reduce your risk and grow your business.</span></span></span><br />\n<br />\n<span style="color:black"><span style="font-family:century gothic\,sans-serif"><span style="font-size:12.0pt">Registration starts at 8:15 am</span></span></span><br />\n<span style="color:black"><span style="font-family:century gothic\,sans-serif"><span style="font-size:12.0pt"><a href="http://r20.rs6.net/tn.jsp?f=001otpSy06juLBXaxlF_2pYBP5TqlXAAiMDh5z-pq_T8O6jJkkA7TJ8i6T_wkcNVOWCqVJfqnBZMunQEvcxE1htcizywjawv2BjIzWWNlq-vmL7-k8o6j5Z85dOhgVM9K13LCsBF7_VAM--F1ZQNx0nRS3oL7f36ZPFp7Pu8n2jRhd9byNYWMPS3SPLOieqjl4pHJX2-dChiyHJXA62qZG02xibXluvHxyI&amp\;c=HOGgf7dvP2QNLlleR0PBB0Fx4MfQxnZIeAqnwWgKBv9RUbYPmqn2yQ==&amp\;ch=lcxXJ1cdTalIpqPY6kJy7nLfLamjzs79qY-w-_pQFA8kkM-RHlGwMA==" target="_blank"><span style="color:#D11242">Click here to register</span></a></span></span></span>
LOCATION:All workshops held at the Florida SBDC at UCF located at the National Entrepreneur Center inside the Orlando Fashion Square Mall 3201 E. Colonial Drive\, Suite A20 Orlando\, FL 32803
UID:e.2138.4615
SEQUENCE:3
DTSTAMP:20260425T165229Z
URL:https://business.seminolebusiness.org/events/details/entrepreneur-s-law-school-protect-your-business-and-yourself-10-11-2016-4615
END:VEVENT

END:VCALENDAR
