BEGIN:VCALENDAR
VERSION:2.0
PRODID:-//ChamberMaster//Event Calendar 2.0//EN
METHOD:PUBLISH
X-PUBLISHED-TTL:P3D
REFRESH-INTERVAL:P3D
CALSCALE:GREGORIAN
BEGIN:VEVENT
DTSTART:20230327T140000Z
DTEND:20230327T153000Z
X-MICROSOFT-CDO-ALLDAYEVENT:FALSE
SUMMARY:Entrepreneurial Growth Program
DESCRIPTION:Have you asked yourself -  how am I going to sustain my business or better yet\, grow my business in 2023\, but have limited bandwidth\, time\, money and resources?\n\nDo you have a TRUE plan on how you're going to accomplish your 2023 objectives - do you need a business plan? \n\n\n\nThen this really powerful and proven\, ten-week program is just for you! We'll dig into the eight key pillars to business success so you can finish 2023 STRONG. You'll also have the added benefit of interacting with other like-minded business owners & professionals.  And\, as an added bonus\, you'll receive a personalized DISC Assessment and 1:1 review of your results so you can better understand your style and how you communicate\, interact with others\, and get stuff done.  \n\n\n\nMondays   Starts March 20    May 22\, 2023                Time:  10:00 to 11:30 a.m.                        Conducted via ZOOM in the privacy of your home or office \nSpecial Offer:  $999 / $99 per week    \n\nReserve Your Space Today!  Call or email Pam Hargis  \n\n386-847-8028     phargis@focalpointcoaching.com
X-ALT-DESC;FMTTYPE=text/html:<span style="color:#000080"><span style="font-size:14px"><span style="font-family:arial\,helvetica\,sans-serif">Have you asked yourself -&nbsp\; how am I going to sustain my business or better yet\, grow my business in 2023\, but have limited bandwidth\, time\, money and resources?<br />\nDo you have a TRUE plan on how you&#39\;re going to accomplish your 2023 objectives - do you need a business plan? </span></span><br />\n<br />\n<span style="font-size:14px"><span style="font-family:arial\,helvetica\,sans-serif">Then this really powerful and proven\, ten-week program is just for you! We&rsquo\;ll dig into the eight key pillars to business success so you can finish 2023 STRONG. You&rsquo\;ll also have the added benefit of interacting with other like-minded business owners &amp\; professionals.&nbsp\; And\, as an added bonus\, you&#39\;ll receive a personalized DISC Assessment and 1:1 review of your results so you can better understand your style and how you communicate\, interact with others\, and get stuff done.&nbsp\; </span></span></span><br />\n<br />\n<strong><span style="color:#2F5496"><span style="font-size:13.0pt">Mondays &ndash\; Starts March 20 &ndash\;&gt\; May 22\, 2023&nbsp\;&nbsp\;&nbsp\;&nbsp\;&nbsp\;&nbsp\;&nbsp\;&nbsp\;&nbsp\;&nbsp\;&nbsp\;&nbsp\;&nbsp\;&nbsp\;&nbsp\; Time:&nbsp\; 10:00 to 11:30 a.m. &nbsp\;&nbsp\;&nbsp\;&nbsp\;&nbsp\;&nbsp\; &nbsp\;&nbsp\;&nbsp\;&nbsp\;&nbsp\;&nbsp\;&nbsp\;&nbsp\;&nbsp\;&nbsp\;&nbsp\;&nbsp\;&nbsp\;&nbsp\;&nbsp\; Conducted via ZOOM in the privacy of your home or office </span></span></strong>\n<div style="text-align: center\;"><span style="font-size:18px"><strong><em><u><span style="color:red">Special Offer</span></u></em></strong><strong><span style="color:red">:&nbsp\; $999 / $99 per week</span></strong></span><strong><span style="color:red"><span style="font-size:16.0pt"><span style="font-size:18px">&nbsp\;&nbsp\;</span>&nbsp\;&nbsp\;</span></span></strong><br />\n<strong><span style="color:black"><span style="font-size:13.0pt">Reserve Your Space Today!&nbsp\; Call or email Pam Hargis &ndash\;<br />\n386-847-8028&nbsp\;&nbsp\;&nbsp\;&nbsp\; </span></span></strong><a href="mailto:phargis@focalpointcoaching.com"><strong><span style="color:black"><span style="font-size:13.0pt">phargis@focalpointcoaching.com</span></span></strong></a></div>\n<br />\n<br />\n&nbsp\;
LOCATION:Conducted via ZOOM - Link and invite provided to participants
UID:e.2138.32267
SEQUENCE:3
DTSTAMP:20260425T105620Z
URL:https://business.seminolebusiness.org/events/details/entrepreneurial-growth-program-03-27-2023-32267
END:VEVENT

END:VCALENDAR
