BEGIN:VCALENDAR
VERSION:2.0
PRODID:-//ChamberMaster//Event Calendar 2.0//EN
METHOD:PUBLISH
X-PUBLISHED-TTL:P3D
REFRESH-INTERVAL:P3D
CALSCALE:GREGORIAN
BEGIN:VEVENT
DTSTART:20181017T223000Z
DTEND:20181017T233000Z
X-MICROSOFT-CDO-ALLDAYEVENT:FALSE
SUMMARY:Estate Planning Seminar hosted by CFE Federal Credit Union
DESCRIPTION:Estate planning is an important process for anyone who wants to ensure their finances are in order for their heirs. Join CFE Federal Credit Union as we host an evening to learn about estate planning in Florida. The Law Offices of Mary W. Kaplan will provide valuable information concerning wills\, trusts\, powers of attorney\, and pratical first steps to begin the process of planning for one's estate.\n\n\n\nRefreshments provided.
X-ALT-DESC;FMTTYPE=text/html:<p>Estate planning is an important process for anyone who wants to ensure their finances are in order for their heirs. Join CFE Federal Credit Union as we host an evening to learn about estate planning in Florida. The Law Offices of Mary W. Kaplan will provide valuable information concerning wills\, trusts\, powers of attorney\, and pratical first steps to begin the process of planning for one&#39\;s estate.<br />\n<br />\nRefreshments provided.</p>\n
LOCATION:OCPS Ronald Blocker Educational Leadership Center\, Board room 445 West Amelia Street Orlando\, FL 32801
UID:e.2138.14776
SEQUENCE:3
DTSTAMP:20260424T023444Z
URL:https://business.seminolebusiness.org/events/details/estate-planning-seminar-hosted-by-cfe-federal-credit-union-14776
END:VEVENT

END:VCALENDAR
