BEGIN:VCALENDAR
VERSION:2.0
PRODID:-//ChamberMaster//Event Calendar 2.0//EN
METHOD:PUBLISH
X-PUBLISHED-TTL:P3D
REFRESH-INTERVAL:P3D
CALSCALE:GREGORIAN
BEGIN:VEVENT
DTSTART:20180118T200000Z
DTEND:20180118T213000Z
X-MICROSOFT-CDO-ALLDAYEVENT:FALSE
SUMMARY:Estrategias Exitosas Para Nuevos Negocios | Successful Strategies for New Businesses
DESCRIPTION:Esta sesi n es para dar informaci n b sica sobre c mo comenzar un negocio. Temas incluyen: licencias\, requisitos del estado\, opciones de financiamiento y c mo Prospera le puede proveer asistencia para comenzar o expandir su negocio. \n\n\n\nEsta orientacion es ofrecida en Espa ol.\n\n\n\nThis course provides basic information and resources to help entrepreneurs start a business. Topics include: licenses and permits\, state regulations\, financing options\, and business development services offered by Prospera.\n\n\n\nThis orientation will be provided in Spanish**
X-ALT-DESC;FMTTYPE=text/html:Esta sesi&oacute\;n es para dar informaci&oacute\;n b&aacute\;sica sobre c&oacute\;mo comenzar un negocio. Temas incluyen: licencias\, requisitos del estado\, opciones de financiamiento y c&oacute\;mo Prospera le puede proveer asistencia para comenzar o expandir su negocio.&nbsp\;<br />\n<br />\nEsta orientacion es ofrecida en <span style="font-family:calibri\,sans-serif"><span style="font-size:11.0pt">Espa&ntilde\;ol.</span></span><br />\n<br />\nThis course provides basic information and resources to help entrepreneurs start a business. Topics include: licenses and permits\, state regulations\, financing options\, and business development services offered by Prospera.<br />\n<br />\n<strong>This orientation will be provided in Spanish**</strong>
LOCATION:Seminole State College 1055 AAA Dr. Heathrow\, FL 32746 Room 203
UID:e.2138.8734
SEQUENCE:3
DTSTAMP:20260424T094514Z
URL:https://business.seminolebusiness.org/events/details/estrategias-exitosas-para-nuevo-negocios-successful-strategies-for-new-businesses-8734
END:VEVENT

END:VCALENDAR
